BEGIN:VCALENDAR
VERSION:2.0
PRODID:-//Ananda Pune - ECPv6.6.0.2//NONSGML v1.0//EN
CALSCALE:GREGORIAN
METHOD:PUBLISH
X-WR-CALNAME:Ananda Pune
X-ORIGINAL-URL:https://anandapune.org
X-WR-CALDESC:Events for Ananda Pune
REFRESH-INTERVAL;VALUE=DURATION:PT1H
X-Robots-Tag:noindex
X-PUBLISHED-TTL:PT1H
BEGIN:VTIMEZONE
TZID:Asia/Kolkata
BEGIN:STANDARD
TZOFFSETFROM:+0530
TZOFFSETTO:+0530
TZNAME:IST
DTSTART:20230101T000000
END:STANDARD
END:VTIMEZONE
BEGIN:VEVENT
DTSTART;TZID=Asia/Kolkata:20230320T120000
DTEND;TZID=Asia/Kolkata:20230320T130000
DTSTAMP:20260424T051700
CREATED:20230326T120302Z
LAST-MODIFIED:20230329T063321Z
UID:21899-1679313600-1679317200@anandapune.org
SUMMARY:Afternoon meditations
DESCRIPTION:Afternoon meditations\n12:00pm – 1:00pm\nMondays- Fridays \nIt’s a wonderful time to pause from the busyness of our activities\, for whatever length of time we can\, to dive within and recharge ourselves for the rest of the day: \n\nContact us if you would like to join us online.\nStart your day in a supportive\, centering\, peaceful environment as you practice your meditation.\nFeel uplifted meditating with fellow devotees.\nYou can enter and exit anytime you like!\nWe start with energization exercises beginning 15 minutes before meditation starts followed by a reading\, a prayer and chant. We end with healing prayers and a reading from Swami Kriyanandaji’s book\, Living Wisely\, Living Well.\n\n\nMany Blessings\, Ananda Pune
URL:https://anandapune.org/event/afternoon-meditations/2023-03-20/
END:VEVENT
END:VCALENDAR