BEGIN:VCALENDAR
VERSION:2.0
PRODID:-//Ananda Pune - ECPv6.6.0.2//NONSGML v1.0//EN
CALSCALE:GREGORIAN
METHOD:PUBLISH
X-WR-CALNAME:Ananda Pune
X-ORIGINAL-URL:https://anandapune.org
X-WR-CALDESC:Events for Ananda Pune
REFRESH-INTERVAL;VALUE=DURATION:PT1H
X-Robots-Tag:noindex
X-PUBLISHED-TTL:PT1H
BEGIN:VTIMEZONE
TZID:Asia/Kolkata
BEGIN:STANDARD
TZOFFSETFROM:+0530
TZOFFSETTO:+0530
TZNAME:IST
DTSTART:20230101T000000
END:STANDARD
END:VTIMEZONE
BEGIN:VEVENT
DTSTART;TZID=Asia/Kolkata:20230328T190000
DTEND;TZID=Asia/Kolkata:20230328T210000
DTSTAMP:20260424T080410
CREATED:20230329T111628Z
LAST-MODIFIED:20230404T104135Z
UID:22698-1680030000-1680037200@anandapune.org
SUMMARY:SPECIAL SANGHA PROGRAMS: Inspiring a Lifetime of Kriya Yoga with Kriya Sangha
DESCRIPTION:Dear One\, \nWe have Nayaswami Shankara with us this evening for our online satsang and kriyaban meditation. Today’s topic will be “Joyful Perseverance.” \nInspiring a Lifetime: Weekly Kriyaban Satsang\n🍁 Date: Tuesday\, 4th April\n🍁 Time: 7:00 – 9:00 PM (India time)
URL:https://anandapune.org/event/special-sangha-programs-inspiring-a-lifetime-of-kriya-yoga-with-kriya-sangha/2023-03-28/
ATTACH;FMTTYPE=image/jpeg:https://anandapune.org/wp-content/uploads/2023/03/WhatsApp-Image-2023-04-04-at-09.44.21.jpeg
END:VEVENT
END:VCALENDAR