BEGIN:VCALENDAR
VERSION:2.0
PRODID:-//Ananda Pune - ECPv6.6.0.2//NONSGML v1.0//EN
CALSCALE:GREGORIAN
METHOD:PUBLISH
X-ORIGINAL-URL:https://anandapune.org
X-WR-CALDESC:Events for Ananda Pune
REFRESH-INTERVAL;VALUE=DURATION:PT1H
X-Robots-Tag:noindex
X-PUBLISHED-TTL:PT1H
BEGIN:VTIMEZONE
TZID:Asia/Kolkata
BEGIN:STANDARD
TZOFFSETFROM:+0530
TZOFFSETTO:+0530
TZNAME:IST
DTSTART:20230101T000000
END:STANDARD
END:VTIMEZONE
BEGIN:VEVENT
DTSTART;TZID=Asia/Kolkata:20230330T063000
DTEND;TZID=Asia/Kolkata:20230330T080000
DTSTAMP:20260424T080536
CREATED:20230326T113908Z
LAST-MODIFIED:20230613T140909Z
UID:21507-1680157800-1680163200@anandapune.org
SUMMARY:Bhagavad Gita Satsang
DESCRIPTION:An hour discourse on  Bhagavad Gita explained by Paramhansa Yogananda . \nJoin us every Thursday\, 6.30 – 8.00 PM in-person & online. \nTo watch online over zoom \, click here
URL:https://anandapune.org/event/bhagavad-gita-satsang-2/2023-03-30/
END:VEVENT
BEGIN:VEVENT
DTSTART;TZID=Asia/Kolkata:20230330T183000
DTEND;TZID=Asia/Kolkata:20230330T193000
DTSTAMP:20260424T080536
CREATED:20230329T055600Z
LAST-MODIFIED:20230329T055600Z
UID:22297-1680201000-1680204600@anandapune.org
SUMMARY:SATSANG
DESCRIPTION:
URL:https://anandapune.org/event/satsang/2023-03-30/
END:VEVENT
END:VCALENDAR