BEGIN:VCALENDAR
VERSION:2.0
PRODID:-//Ananda Pune - ECPv6.6.0.2//NONSGML v1.0//EN
CALSCALE:GREGORIAN
METHOD:PUBLISH
X-ORIGINAL-URL:https://anandapune.org
X-WR-CALDESC:Events for Ananda Pune
REFRESH-INTERVAL;VALUE=DURATION:PT1H
X-Robots-Tag:noindex
X-PUBLISHED-TTL:PT1H
BEGIN:VTIMEZONE
TZID:Asia/Kolkata
BEGIN:STANDARD
TZOFFSETFROM:+0530
TZOFFSETTO:+0530
TZNAME:IST
DTSTART:20240101T000000
END:STANDARD
END:VTIMEZONE
BEGIN:VEVENT
DTSTART;TZID=Asia/Kolkata:20240427T064500
DTEND;TZID=Asia/Kolkata:20240427T081500
DTSTAMP:20260424T132122
CREATED:20171207T114110Z
LAST-MODIFIED:20171207T114110Z
UID:34694-1714200300-1714205700@anandapune.org
SUMMARY:Morning Meditation
DESCRIPTION:
URL:https://anandapune.org/event/morning-meditation/2024-04-27/
END:VEVENT
BEGIN:VEVENT
DTSTART;TZID=Asia/Kolkata:20240427T073000
DTEND;TZID=Asia/Kolkata:20240427T103000
DTSTAMP:20260424T132122
CREATED:20171207T113519Z
LAST-MODIFIED:20171207T113519Z
UID:39340-1714203000-1714213800@anandapune.org
SUMMARY:Kriyaban Meditation
DESCRIPTION:On Saturdays from 7.30 AM to 10.30 AM. \nGuided meditation for Kriyabans\, starting with the Energization Exercises\, Mahamudra and finally a long practice of Kriya Meditation.
URL:https://anandapune.org/event/kriyaban-meditation-2018-03-18-2018-12-23/2024-04-27/
ATTACH;FMTTYPE=image/jpeg:https://anandapune.org/wp-content/uploads/2017/12/meditation-mala.jpg
END:VEVENT
BEGIN:VEVENT
DTSTART;TZID=Asia/Kolkata:20240427T080000
DTEND;TZID=Asia/Kolkata:20240427T110000
DTSTAMP:20260424T132122
CREATED:20180311T095142Z
LAST-MODIFIED:20180311T095142Z
UID:36346-1714204800-1714215600@anandapune.org
SUMMARY:Long Meditation
DESCRIPTION:
URL:https://anandapune.org/event/long-meditation/2024-04-27/
CATEGORIES:Special Events
ATTACH;FMTTYPE=image/jpeg:https://anandapune.org/wp-content/uploads/2018/03/amruta-meditating.jpg
END:VEVENT
BEGIN:VEVENT
DTSTART;TZID=Asia/Kolkata:20240427T200000
DTEND;TZID=Asia/Kolkata:20240427T210000
DTSTAMP:20260424T132122
CREATED:20180314T132401Z
LAST-MODIFIED:20180314T132401Z
UID:36725-1714248000-1714251600@anandapune.org
SUMMARY:Kirtan
DESCRIPTION:
URL:https://anandapune.org/event/kirtan/2024-04-27/
ATTACH;FMTTYPE=image/jpeg:https://anandapune.org/wp-content/uploads/2018/03/kirtan-heze.jpg
END:VEVENT
END:VCALENDAR