BEGIN:VCALENDAR
VERSION:2.0
PRODID:-//Ananda Pune - ECPv6.6.0.2//NONSGML v1.0//EN
CALSCALE:GREGORIAN
METHOD:PUBLISH
X-ORIGINAL-URL:https://anandapune.org
X-WR-CALDESC:Events for Ananda Pune
REFRESH-INTERVAL;VALUE=DURATION:PT1H
X-Robots-Tag:noindex
X-PUBLISHED-TTL:PT1H
BEGIN:VTIMEZONE
TZID:Asia/Kolkata
BEGIN:STANDARD
TZOFFSETFROM:+0530
TZOFFSETTO:+0530
TZNAME:IST
DTSTART:20270101T000000
END:STANDARD
END:VTIMEZONE
BEGIN:VEVENT
DTSTART;TZID=Asia/Kolkata:20270330T064500
DTEND;TZID=Asia/Kolkata:20270330T081500
DTSTAMP:20260422T002734
CREATED:20171207T114110Z
LAST-MODIFIED:20171207T114110Z
UID:42104-1806389100-1806394500@anandapune.org
SUMMARY:Morning Meditation
DESCRIPTION:
URL:https://anandapune.org/event/morning-meditation/2027-03-30/
END:VEVENT
BEGIN:VEVENT
DTSTART;TZID=Asia/Kolkata:20270330T064500
DTEND;TZID=Asia/Kolkata:20270330T081500
DTSTAMP:20260422T002734
CREATED:20180505T174917Z
LAST-MODIFIED:20180505T174917Z
UID:42105-1806389100-1806394500@anandapune.org
SUMMARY:Morning Meditation
DESCRIPTION:Feel the group support in your daily meditations by joining our morning sadhana! We will start our meditation with chanting and a prayer and end with sending healing prayers.
URL:https://anandapune.org/event/morning-meditation-2-2018-10-05/2027-03-30/
ATTACH;FMTTYPE=image/jpeg:https://anandapune.org/wp-content/uploads/2018/01/prayer-square.jpg
END:VEVENT
BEGIN:VEVENT
DTSTART;TZID=Asia/Kolkata:20270330T064500
DTEND;TZID=Asia/Kolkata:20270330T081500
DTSTAMP:20260422T002734
CREATED:20190115T100405Z
LAST-MODIFIED:20190115T100405Z
UID:42107-1806389100-1806394500@anandapune.org
SUMMARY:Morning Meditation
DESCRIPTION:
URL:https://anandapune.org/event/morning-meditation-3/2027-03-30/
ATTACH;FMTTYPE=image/jpeg:https://anandapune.org/wp-content/uploads/2018/01/prayer-square.jpg
END:VEVENT
BEGIN:VEVENT
DTSTART;TZID=Asia/Kolkata:20270330T123500
DTEND;TZID=Asia/Kolkata:20270330T130000
DTSTAMP:20260422T002734
CREATED:20181021T083935Z
LAST-MODIFIED:20181021T083935Z
UID:42106-1806410100-1806411600@anandapune.org
SUMMARY:Noon Meditation
DESCRIPTION:An online group meditation. Meditate with us before your lunch break at 12:35 to 1 PM\, to recharge and be reïnspired for the rest of the day ahead. \nClick here to join the meditation.
URL:https://anandapune.org/event/noon-meditation/2027-03-30/
ATTACH;FMTTYPE=image/jpeg:https://anandapune.org/wp-content/uploads/2018/10/noon-meditation.jpg
END:VEVENT
END:VCALENDAR