BEGIN:VCALENDAR
VERSION:2.0
PRODID:-//Ananda Pune - ECPv6.6.0.2//NONSGML v1.0//EN
CALSCALE:GREGORIAN
METHOD:PUBLISH
X-WR-CALNAME:Ananda Pune
X-ORIGINAL-URL:https://anandapune.org
X-WR-CALDESC:Events for Ananda Pune
REFRESH-INTERVAL;VALUE=DURATION:PT1H
X-Robots-Tag:noindex
X-PUBLISHED-TTL:PT1H
BEGIN:VTIMEZONE
TZID:Asia/Kolkata
BEGIN:STANDARD
TZOFFSETFROM:+0530
TZOFFSETTO:+0530
TZNAME:IST
DTSTART:20270101T000000
END:STANDARD
END:VTIMEZONE
BEGIN:VEVENT
DTSTART;TZID=Asia/Kolkata:20270617T203000
DTEND;TZID=Asia/Kolkata:20270617T223000
DTSTAMP:20260420T155350
CREATED:20180311T095142Z
LAST-MODIFIED:20180311T095142Z
UID:42791-1813264200-1813271400@anandapune.org
SUMMARY:Long Meditation
DESCRIPTION:
URL:https://anandapune.org/event/long-meditation/2027-06-17/
CATEGORIES:Special Events
ATTACH;FMTTYPE=image/jpeg:https://anandapune.org/wp-content/uploads/2018/03/amruta-meditating.jpg
END:VEVENT
BEGIN:VEVENT
DTSTART;TZID=Asia/Kolkata:20270619T080000
DTEND;TZID=Asia/Kolkata:20270619T110000
DTSTAMP:20260420T155350
CREATED:20180311T095142Z
LAST-MODIFIED:20180311T095142Z
UID:42790-1813392000-1813402800@anandapune.org
SUMMARY:Long Meditation
DESCRIPTION:
URL:https://anandapune.org/event/long-meditation/2027-06-19/
CATEGORIES:Special Events
ATTACH;FMTTYPE=image/jpeg:https://anandapune.org/wp-content/uploads/2018/03/amruta-meditating.jpg
END:VEVENT
BEGIN:VEVENT
DTSTART;TZID=Asia/Kolkata:20270619T173000
DTEND;TZID=Asia/Kolkata:20270619T190000
DTSTAMP:20260420T155350
CREATED:20180906T133908Z
LAST-MODIFIED:20180906T133908Z
UID:42793-1813426200-1813431600@anandapune.org
SUMMARY:Chanting with Harmonium Lessons
DESCRIPTION:Click to Enlarge
URL:https://anandapune.org/event/chanting-with-harmonium-lessons/2027-06-19/
CATEGORIES:Special Events
ATTACH;FMTTYPE=image/jpeg:https://anandapune.org/wp-content/uploads/2018/09/harmonium-swami-kriyananda.jpg
END:VEVENT
BEGIN:VEVENT
DTSTART;TZID=Asia/Kolkata:20270620T073000
DTEND;TZID=Asia/Kolkata:20270620T103000
DTSTAMP:20260420T155350
CREATED:20171207T113519Z
LAST-MODIFIED:20171207T113519Z
UID:42798-1813476600-1813487400@anandapune.org
SUMMARY:Kriyaban Meditation
DESCRIPTION:Guided meditation for Kriyabans\, starting with the Energization Exercises\, Mahamudra and finally a long practice of Kriya Meditation.
URL:https://anandapune.org/event/kriyaban-meditation-2018-03-18/2027-06-20/
CATEGORIES:Special Events
ATTACH;FMTTYPE=image/jpeg:https://anandapune.org/wp-content/uploads/2017/12/meditation-mala.jpg
END:VEVENT
BEGIN:VEVENT
DTSTART;TZID=Asia/Kolkata:20270624T203000
DTEND;TZID=Asia/Kolkata:20270624T223000
DTSTAMP:20260420T155350
CREATED:20180311T095142Z
LAST-MODIFIED:20180311T095142Z
UID:42832-1813869000-1813876200@anandapune.org
SUMMARY:Long Meditation
DESCRIPTION:
URL:https://anandapune.org/event/long-meditation/2027-06-24/
CATEGORIES:Special Events
ATTACH;FMTTYPE=image/jpeg:https://anandapune.org/wp-content/uploads/2018/03/amruta-meditating.jpg
END:VEVENT
BEGIN:VEVENT
DTSTART;TZID=Asia/Kolkata:20270626T080000
DTEND;TZID=Asia/Kolkata:20270626T110000
DTSTAMP:20260420T155350
CREATED:20180311T095142Z
LAST-MODIFIED:20180311T095142Z
UID:42831-1813996800-1814007600@anandapune.org
SUMMARY:Long Meditation
DESCRIPTION:
URL:https://anandapune.org/event/long-meditation/2027-06-26/
CATEGORIES:Special Events
ATTACH;FMTTYPE=image/jpeg:https://anandapune.org/wp-content/uploads/2018/03/amruta-meditating.jpg
END:VEVENT
BEGIN:VEVENT
DTSTART;TZID=Asia/Kolkata:20270626T173000
DTEND;TZID=Asia/Kolkata:20270626T190000
DTSTAMP:20260420T155350
CREATED:20180906T133908Z
LAST-MODIFIED:20180906T133908Z
UID:42834-1814031000-1814036400@anandapune.org
SUMMARY:Chanting with Harmonium Lessons
DESCRIPTION:Click to Enlarge
URL:https://anandapune.org/event/chanting-with-harmonium-lessons/2027-06-26/
CATEGORIES:Special Events
ATTACH;FMTTYPE=image/jpeg:https://anandapune.org/wp-content/uploads/2018/09/harmonium-swami-kriyananda.jpg
END:VEVENT
BEGIN:VEVENT
DTSTART;TZID=Asia/Kolkata:20270627T073000
DTEND;TZID=Asia/Kolkata:20270627T103000
DTSTAMP:20260420T155350
CREATED:20171207T113519Z
LAST-MODIFIED:20171207T113519Z
UID:42839-1814081400-1814092200@anandapune.org
SUMMARY:Kriyaban Meditation
DESCRIPTION:Guided meditation for Kriyabans\, starting with the Energization Exercises\, Mahamudra and finally a long practice of Kriya Meditation.
URL:https://anandapune.org/event/kriyaban-meditation-2018-03-18/2027-06-27/
CATEGORIES:Special Events
ATTACH;FMTTYPE=image/jpeg:https://anandapune.org/wp-content/uploads/2017/12/meditation-mala.jpg
END:VEVENT
BEGIN:VEVENT
DTSTART;TZID=Asia/Kolkata:20270701T203000
DTEND;TZID=Asia/Kolkata:20270701T223000
DTSTAMP:20260420T155350
CREATED:20180311T095142Z
LAST-MODIFIED:20180311T095142Z
UID:42878-1814473800-1814481000@anandapune.org
SUMMARY:Long Meditation
DESCRIPTION:
URL:https://anandapune.org/event/long-meditation/2027-07-01/
CATEGORIES:Special Events
ATTACH;FMTTYPE=image/jpeg:https://anandapune.org/wp-content/uploads/2018/03/amruta-meditating.jpg
END:VEVENT
BEGIN:VEVENT
DTSTART;TZID=Asia/Kolkata:20270703T080000
DTEND;TZID=Asia/Kolkata:20270703T110000
DTSTAMP:20260420T155350
CREATED:20180311T095142Z
LAST-MODIFIED:20180311T095142Z
UID:42877-1814601600-1814612400@anandapune.org
SUMMARY:Long Meditation
DESCRIPTION:
URL:https://anandapune.org/event/long-meditation/2027-07-03/
CATEGORIES:Special Events
ATTACH;FMTTYPE=image/jpeg:https://anandapune.org/wp-content/uploads/2018/03/amruta-meditating.jpg
END:VEVENT
BEGIN:VEVENT
DTSTART;TZID=Asia/Kolkata:20270703T173000
DTEND;TZID=Asia/Kolkata:20270703T190000
DTSTAMP:20260420T155350
CREATED:20180906T133908Z
LAST-MODIFIED:20180906T133908Z
UID:42880-1814635800-1814641200@anandapune.org
SUMMARY:Chanting with Harmonium Lessons
DESCRIPTION:Click to Enlarge
URL:https://anandapune.org/event/chanting-with-harmonium-lessons/2027-07-03/
CATEGORIES:Special Events
ATTACH;FMTTYPE=image/jpeg:https://anandapune.org/wp-content/uploads/2018/09/harmonium-swami-kriyananda.jpg
END:VEVENT
BEGIN:VEVENT
DTSTART;TZID=Asia/Kolkata:20270704T073000
DTEND;TZID=Asia/Kolkata:20270704T103000
DTSTAMP:20260420T155350
CREATED:20171207T113519Z
LAST-MODIFIED:20171207T113519Z
UID:42889-1814686200-1814697000@anandapune.org
SUMMARY:Kriyaban Meditation
DESCRIPTION:Guided meditation for Kriyabans\, starting with the Energization Exercises\, Mahamudra and finally a long practice of Kriya Meditation.
URL:https://anandapune.org/event/kriyaban-meditation-2018-03-18/2027-07-04/
CATEGORIES:Special Events
ATTACH;FMTTYPE=image/jpeg:https://anandapune.org/wp-content/uploads/2017/12/meditation-mala.jpg
END:VEVENT
BEGIN:VEVENT
DTSTART;TZID=Asia/Kolkata:20270708T203000
DTEND;TZID=Asia/Kolkata:20270708T223000
DTSTAMP:20260420T155350
CREATED:20180311T095142Z
LAST-MODIFIED:20180311T095142Z
UID:42923-1815078600-1815085800@anandapune.org
SUMMARY:Long Meditation
DESCRIPTION:
URL:https://anandapune.org/event/long-meditation/2027-07-08/
CATEGORIES:Special Events
ATTACH;FMTTYPE=image/jpeg:https://anandapune.org/wp-content/uploads/2018/03/amruta-meditating.jpg
END:VEVENT
BEGIN:VEVENT
DTSTART;TZID=Asia/Kolkata:20270710T080000
DTEND;TZID=Asia/Kolkata:20270710T110000
DTSTAMP:20260420T155350
CREATED:20180311T095142Z
LAST-MODIFIED:20180311T095142Z
UID:42922-1815206400-1815217200@anandapune.org
SUMMARY:Long Meditation
DESCRIPTION:
URL:https://anandapune.org/event/long-meditation/2027-07-10/
CATEGORIES:Special Events
ATTACH;FMTTYPE=image/jpeg:https://anandapune.org/wp-content/uploads/2018/03/amruta-meditating.jpg
END:VEVENT
BEGIN:VEVENT
DTSTART;TZID=Asia/Kolkata:20270710T173000
DTEND;TZID=Asia/Kolkata:20270710T190000
DTSTAMP:20260420T155350
CREATED:20180906T133908Z
LAST-MODIFIED:20180906T133908Z
UID:42925-1815240600-1815246000@anandapune.org
SUMMARY:Chanting with Harmonium Lessons
DESCRIPTION:Click to Enlarge
URL:https://anandapune.org/event/chanting-with-harmonium-lessons/2027-07-10/
CATEGORIES:Special Events
ATTACH;FMTTYPE=image/jpeg:https://anandapune.org/wp-content/uploads/2018/09/harmonium-swami-kriyananda.jpg
END:VEVENT
BEGIN:VEVENT
DTSTART;TZID=Asia/Kolkata:20270711T073000
DTEND;TZID=Asia/Kolkata:20270711T103000
DTSTAMP:20260420T155350
CREATED:20171207T113519Z
LAST-MODIFIED:20171207T113519Z
UID:42936-1815291000-1815301800@anandapune.org
SUMMARY:Kriyaban Meditation
DESCRIPTION:Guided meditation for Kriyabans\, starting with the Energization Exercises\, Mahamudra and finally a long practice of Kriya Meditation.
URL:https://anandapune.org/event/kriyaban-meditation-2018-03-18/2027-07-11/
CATEGORIES:Special Events
ATTACH;FMTTYPE=image/jpeg:https://anandapune.org/wp-content/uploads/2017/12/meditation-mala.jpg
END:VEVENT
BEGIN:VEVENT
DTSTART;TZID=Asia/Kolkata:20270715T203000
DTEND;TZID=Asia/Kolkata:20270715T223000
DTSTAMP:20260420T155350
CREATED:20180311T095142Z
LAST-MODIFIED:20180311T095142Z
UID:42971-1815683400-1815690600@anandapune.org
SUMMARY:Long Meditation
DESCRIPTION:
URL:https://anandapune.org/event/long-meditation/2027-07-15/
CATEGORIES:Special Events
ATTACH;FMTTYPE=image/jpeg:https://anandapune.org/wp-content/uploads/2018/03/amruta-meditating.jpg
END:VEVENT
BEGIN:VEVENT
DTSTART;TZID=Asia/Kolkata:20270717T080000
DTEND;TZID=Asia/Kolkata:20270717T110000
DTSTAMP:20260420T155350
CREATED:20180311T095142Z
LAST-MODIFIED:20180311T095142Z
UID:42970-1815811200-1815822000@anandapune.org
SUMMARY:Long Meditation
DESCRIPTION:
URL:https://anandapune.org/event/long-meditation/2027-07-17/
CATEGORIES:Special Events
ATTACH;FMTTYPE=image/jpeg:https://anandapune.org/wp-content/uploads/2018/03/amruta-meditating.jpg
END:VEVENT
BEGIN:VEVENT
DTSTART;TZID=Asia/Kolkata:20270717T173000
DTEND;TZID=Asia/Kolkata:20270717T190000
DTSTAMP:20260420T155350
CREATED:20180906T133908Z
LAST-MODIFIED:20180906T133908Z
UID:42973-1815845400-1815850800@anandapune.org
SUMMARY:Chanting with Harmonium Lessons
DESCRIPTION:Click to Enlarge
URL:https://anandapune.org/event/chanting-with-harmonium-lessons/2027-07-17/
CATEGORIES:Special Events
ATTACH;FMTTYPE=image/jpeg:https://anandapune.org/wp-content/uploads/2018/09/harmonium-swami-kriyananda.jpg
END:VEVENT
BEGIN:VEVENT
DTSTART;TZID=Asia/Kolkata:20270718T073000
DTEND;TZID=Asia/Kolkata:20270718T103000
DTSTAMP:20260420T155350
CREATED:20171207T113519Z
LAST-MODIFIED:20171207T113519Z
UID:42978-1815895800-1815906600@anandapune.org
SUMMARY:Kriyaban Meditation
DESCRIPTION:Guided meditation for Kriyabans\, starting with the Energization Exercises\, Mahamudra and finally a long practice of Kriya Meditation.
URL:https://anandapune.org/event/kriyaban-meditation-2018-03-18/2027-07-18/
CATEGORIES:Special Events
ATTACH;FMTTYPE=image/jpeg:https://anandapune.org/wp-content/uploads/2017/12/meditation-mala.jpg
END:VEVENT
BEGIN:VEVENT
DTSTART;TZID=Asia/Kolkata:20270722T203000
DTEND;TZID=Asia/Kolkata:20270722T223000
DTSTAMP:20260420T155350
CREATED:20180311T095142Z
LAST-MODIFIED:20180311T095142Z
UID:43020-1816288200-1816295400@anandapune.org
SUMMARY:Long Meditation
DESCRIPTION:
URL:https://anandapune.org/event/long-meditation/2027-07-22/
CATEGORIES:Special Events
ATTACH;FMTTYPE=image/jpeg:https://anandapune.org/wp-content/uploads/2018/03/amruta-meditating.jpg
END:VEVENT
BEGIN:VEVENT
DTSTART;TZID=Asia/Kolkata:20270724T080000
DTEND;TZID=Asia/Kolkata:20270724T110000
DTSTAMP:20260420T155350
CREATED:20180311T095142Z
LAST-MODIFIED:20180311T095142Z
UID:43019-1816416000-1816426800@anandapune.org
SUMMARY:Long Meditation
DESCRIPTION:
URL:https://anandapune.org/event/long-meditation/2027-07-24/
CATEGORIES:Special Events
ATTACH;FMTTYPE=image/jpeg:https://anandapune.org/wp-content/uploads/2018/03/amruta-meditating.jpg
END:VEVENT
BEGIN:VEVENT
DTSTART;TZID=Asia/Kolkata:20270724T173000
DTEND;TZID=Asia/Kolkata:20270724T190000
DTSTAMP:20260420T155350
CREATED:20180906T133908Z
LAST-MODIFIED:20180906T133908Z
UID:43022-1816450200-1816455600@anandapune.org
SUMMARY:Chanting with Harmonium Lessons
DESCRIPTION:Click to Enlarge
URL:https://anandapune.org/event/chanting-with-harmonium-lessons/2027-07-24/
CATEGORIES:Special Events
ATTACH;FMTTYPE=image/jpeg:https://anandapune.org/wp-content/uploads/2018/09/harmonium-swami-kriyananda.jpg
END:VEVENT
BEGIN:VEVENT
DTSTART;TZID=Asia/Kolkata:20270725T073000
DTEND;TZID=Asia/Kolkata:20270725T103000
DTSTAMP:20260420T155350
CREATED:20171207T113519Z
LAST-MODIFIED:20171207T113519Z
UID:43027-1816500600-1816511400@anandapune.org
SUMMARY:Kriyaban Meditation
DESCRIPTION:Guided meditation for Kriyabans\, starting with the Energization Exercises\, Mahamudra and finally a long practice of Kriya Meditation.
URL:https://anandapune.org/event/kriyaban-meditation-2018-03-18/2027-07-25/
CATEGORIES:Special Events
ATTACH;FMTTYPE=image/jpeg:https://anandapune.org/wp-content/uploads/2017/12/meditation-mala.jpg
END:VEVENT
BEGIN:VEVENT
DTSTART;TZID=Asia/Kolkata:20270729T203000
DTEND;TZID=Asia/Kolkata:20270729T223000
DTSTAMP:20260420T155350
CREATED:20180311T095142Z
LAST-MODIFIED:20180311T095142Z
UID:43087-1816893000-1816900200@anandapune.org
SUMMARY:Long Meditation
DESCRIPTION:
URL:https://anandapune.org/event/long-meditation/2027-07-29/
CATEGORIES:Special Events
ATTACH;FMTTYPE=image/jpeg:https://anandapune.org/wp-content/uploads/2018/03/amruta-meditating.jpg
END:VEVENT
BEGIN:VEVENT
DTSTART;TZID=Asia/Kolkata:20270731T080000
DTEND;TZID=Asia/Kolkata:20270731T110000
DTSTAMP:20260420T155350
CREATED:20180311T095142Z
LAST-MODIFIED:20180311T095142Z
UID:43086-1817020800-1817031600@anandapune.org
SUMMARY:Long Meditation
DESCRIPTION:
URL:https://anandapune.org/event/long-meditation/2027-07-31/
CATEGORIES:Special Events
ATTACH;FMTTYPE=image/jpeg:https://anandapune.org/wp-content/uploads/2018/03/amruta-meditating.jpg
END:VEVENT
BEGIN:VEVENT
DTSTART;TZID=Asia/Kolkata:20270731T173000
DTEND;TZID=Asia/Kolkata:20270731T190000
DTSTAMP:20260420T155350
CREATED:20180906T133908Z
LAST-MODIFIED:20180906T133908Z
UID:43089-1817055000-1817060400@anandapune.org
SUMMARY:Chanting with Harmonium Lessons
DESCRIPTION:Click to Enlarge
URL:https://anandapune.org/event/chanting-with-harmonium-lessons/2027-07-31/
CATEGORIES:Special Events
ATTACH;FMTTYPE=image/jpeg:https://anandapune.org/wp-content/uploads/2018/09/harmonium-swami-kriyananda.jpg
END:VEVENT
BEGIN:VEVENT
DTSTART;TZID=Asia/Kolkata:20270801T073000
DTEND;TZID=Asia/Kolkata:20270801T103000
DTSTAMP:20260420T155350
CREATED:20171207T113519Z
LAST-MODIFIED:20171207T113519Z
UID:43094-1817105400-1817116200@anandapune.org
SUMMARY:Kriyaban Meditation
DESCRIPTION:Guided meditation for Kriyabans\, starting with the Energization Exercises\, Mahamudra and finally a long practice of Kriya Meditation.
URL:https://anandapune.org/event/kriyaban-meditation-2018-03-18/2027-08-01/
CATEGORIES:Special Events
ATTACH;FMTTYPE=image/jpeg:https://anandapune.org/wp-content/uploads/2017/12/meditation-mala.jpg
END:VEVENT
BEGIN:VEVENT
DTSTART;TZID=Asia/Kolkata:20270805T203000
DTEND;TZID=Asia/Kolkata:20270805T223000
DTSTAMP:20260420T155350
CREATED:20180311T095142Z
LAST-MODIFIED:20180311T095142Z
UID:43165-1817497800-1817505000@anandapune.org
SUMMARY:Long Meditation
DESCRIPTION:
URL:https://anandapune.org/event/long-meditation/2027-08-05/
CATEGORIES:Special Events
ATTACH;FMTTYPE=image/jpeg:https://anandapune.org/wp-content/uploads/2018/03/amruta-meditating.jpg
END:VEVENT
BEGIN:VEVENT
DTSTART;TZID=Asia/Kolkata:20270807T080000
DTEND;TZID=Asia/Kolkata:20270807T110000
DTSTAMP:20260420T155350
CREATED:20180311T095142Z
LAST-MODIFIED:20180311T095142Z
UID:43164-1817625600-1817636400@anandapune.org
SUMMARY:Long Meditation
DESCRIPTION:
URL:https://anandapune.org/event/long-meditation/2027-08-07/
CATEGORIES:Special Events
ATTACH;FMTTYPE=image/jpeg:https://anandapune.org/wp-content/uploads/2018/03/amruta-meditating.jpg
END:VEVENT
END:VCALENDAR