BEGIN:VCALENDAR
VERSION:2.0
PRODID:-//Ananda Pune - ECPv6.6.0.2//NONSGML v1.0//EN
CALSCALE:GREGORIAN
METHOD:PUBLISH
X-WR-CALNAME:Ananda Pune
X-ORIGINAL-URL:https://anandapune.org
X-WR-CALDESC:Events for Ananda Pune
REFRESH-INTERVAL;VALUE=DURATION:PT1H
X-Robots-Tag:noindex
X-PUBLISHED-TTL:PT1H
BEGIN:VTIMEZONE
TZID:Asia/Kolkata
BEGIN:STANDARD
TZOFFSETFROM:+0530
TZOFFSETTO:+0530
TZNAME:IST
DTSTART:20280101T000000
END:STANDARD
END:VTIMEZONE
BEGIN:VEVENT
DTSTART;TZID=Asia/Kolkata:20280113T203000
DTEND;TZID=Asia/Kolkata:20280113T223000
DTSTAMP:20260423T164441
CREATED:20180311T095142Z
LAST-MODIFIED:20180311T095142Z
UID:44537-1831408200-1831415400@anandapune.org
SUMMARY:Long Meditation
DESCRIPTION:
URL:https://anandapune.org/event/long-meditation/2028-01-13/
CATEGORIES:Special Events
ATTACH;FMTTYPE=image/jpeg:https://anandapune.org/wp-content/uploads/2018/03/amruta-meditating.jpg
END:VEVENT
BEGIN:VEVENT
DTSTART;TZID=Asia/Kolkata:20280115T080000
DTEND;TZID=Asia/Kolkata:20280115T110000
DTSTAMP:20260423T164441
CREATED:20180311T095142Z
LAST-MODIFIED:20180311T095142Z
UID:44536-1831536000-1831546800@anandapune.org
SUMMARY:Long Meditation
DESCRIPTION:
URL:https://anandapune.org/event/long-meditation/2028-01-15/
CATEGORIES:Special Events
ATTACH;FMTTYPE=image/jpeg:https://anandapune.org/wp-content/uploads/2018/03/amruta-meditating.jpg
END:VEVENT
BEGIN:VEVENT
DTSTART;TZID=Asia/Kolkata:20280115T173000
DTEND;TZID=Asia/Kolkata:20280115T190000
DTSTAMP:20260423T164441
CREATED:20180906T133908Z
LAST-MODIFIED:20180906T133908Z
UID:44539-1831570200-1831575600@anandapune.org
SUMMARY:Chanting with Harmonium Lessons
DESCRIPTION:Click to Enlarge
URL:https://anandapune.org/event/chanting-with-harmonium-lessons/2028-01-15/
CATEGORIES:Special Events
ATTACH;FMTTYPE=image/jpeg:https://anandapune.org/wp-content/uploads/2018/09/harmonium-swami-kriyananda.jpg
END:VEVENT
BEGIN:VEVENT
DTSTART;TZID=Asia/Kolkata:20280116T073000
DTEND;TZID=Asia/Kolkata:20280116T103000
DTSTAMP:20260423T164441
CREATED:20171207T113519Z
LAST-MODIFIED:20171207T113519Z
UID:44559-1831620600-1831631400@anandapune.org
SUMMARY:Kriyaban Meditation
DESCRIPTION:Guided meditation for Kriyabans\, starting with the Energization Exercises\, Mahamudra and finally a long practice of Kriya Meditation.
URL:https://anandapune.org/event/kriyaban-meditation-2018-03-18/2028-01-16/
CATEGORIES:Special Events
ATTACH;FMTTYPE=image/jpeg:https://anandapune.org/wp-content/uploads/2017/12/meditation-mala.jpg
END:VEVENT
BEGIN:VEVENT
DTSTART;TZID=Asia/Kolkata:20280120T203000
DTEND;TZID=Asia/Kolkata:20280120T223000
DTSTAMP:20260423T164441
CREATED:20180311T095142Z
LAST-MODIFIED:20180311T095142Z
UID:44616-1832013000-1832020200@anandapune.org
SUMMARY:Long Meditation
DESCRIPTION:
URL:https://anandapune.org/event/long-meditation/2028-01-20/
CATEGORIES:Special Events
ATTACH;FMTTYPE=image/jpeg:https://anandapune.org/wp-content/uploads/2018/03/amruta-meditating.jpg
END:VEVENT
BEGIN:VEVENT
DTSTART;TZID=Asia/Kolkata:20280122T080000
DTEND;TZID=Asia/Kolkata:20280122T110000
DTSTAMP:20260423T164441
CREATED:20180311T095142Z
LAST-MODIFIED:20180311T095142Z
UID:44615-1832140800-1832151600@anandapune.org
SUMMARY:Long Meditation
DESCRIPTION:
URL:https://anandapune.org/event/long-meditation/2028-01-22/
CATEGORIES:Special Events
ATTACH;FMTTYPE=image/jpeg:https://anandapune.org/wp-content/uploads/2018/03/amruta-meditating.jpg
END:VEVENT
BEGIN:VEVENT
DTSTART;TZID=Asia/Kolkata:20280122T173000
DTEND;TZID=Asia/Kolkata:20280122T190000
DTSTAMP:20260423T164441
CREATED:20180906T133908Z
LAST-MODIFIED:20180906T133908Z
UID:44618-1832175000-1832180400@anandapune.org
SUMMARY:Chanting with Harmonium Lessons
DESCRIPTION:Click to Enlarge
URL:https://anandapune.org/event/chanting-with-harmonium-lessons/2028-01-22/
CATEGORIES:Special Events
ATTACH;FMTTYPE=image/jpeg:https://anandapune.org/wp-content/uploads/2018/09/harmonium-swami-kriyananda.jpg
END:VEVENT
BEGIN:VEVENT
DTSTART;TZID=Asia/Kolkata:20280123T073000
DTEND;TZID=Asia/Kolkata:20280123T103000
DTSTAMP:20260423T164441
CREATED:20171207T113519Z
LAST-MODIFIED:20171207T113519Z
UID:44623-1832225400-1832236200@anandapune.org
SUMMARY:Kriyaban Meditation
DESCRIPTION:Guided meditation for Kriyabans\, starting with the Energization Exercises\, Mahamudra and finally a long practice of Kriya Meditation.
URL:https://anandapune.org/event/kriyaban-meditation-2018-03-18/2028-01-23/
CATEGORIES:Special Events
ATTACH;FMTTYPE=image/jpeg:https://anandapune.org/wp-content/uploads/2017/12/meditation-mala.jpg
END:VEVENT
BEGIN:VEVENT
DTSTART;TZID=Asia/Kolkata:20280127T203000
DTEND;TZID=Asia/Kolkata:20280127T223000
DTSTAMP:20260423T164441
CREATED:20180311T095142Z
LAST-MODIFIED:20180311T095142Z
UID:44663-1832617800-1832625000@anandapune.org
SUMMARY:Long Meditation
DESCRIPTION:
URL:https://anandapune.org/event/long-meditation/2028-01-27/
CATEGORIES:Special Events
ATTACH;FMTTYPE=image/jpeg:https://anandapune.org/wp-content/uploads/2018/03/amruta-meditating.jpg
END:VEVENT
BEGIN:VEVENT
DTSTART;TZID=Asia/Kolkata:20280129T080000
DTEND;TZID=Asia/Kolkata:20280129T110000
DTSTAMP:20260423T164441
CREATED:20180311T095142Z
LAST-MODIFIED:20180311T095142Z
UID:44662-1832745600-1832756400@anandapune.org
SUMMARY:Long Meditation
DESCRIPTION:
URL:https://anandapune.org/event/long-meditation/2028-01-29/
CATEGORIES:Special Events
ATTACH;FMTTYPE=image/jpeg:https://anandapune.org/wp-content/uploads/2018/03/amruta-meditating.jpg
END:VEVENT
BEGIN:VEVENT
DTSTART;TZID=Asia/Kolkata:20280129T173000
DTEND;TZID=Asia/Kolkata:20280129T190000
DTSTAMP:20260423T164441
CREATED:20180906T133908Z
LAST-MODIFIED:20180906T133908Z
UID:44665-1832779800-1832785200@anandapune.org
SUMMARY:Chanting with Harmonium Lessons
DESCRIPTION:Click to Enlarge
URL:https://anandapune.org/event/chanting-with-harmonium-lessons/2028-01-29/
CATEGORIES:Special Events
ATTACH;FMTTYPE=image/jpeg:https://anandapune.org/wp-content/uploads/2018/09/harmonium-swami-kriyananda.jpg
END:VEVENT
BEGIN:VEVENT
DTSTART;TZID=Asia/Kolkata:20280130T073000
DTEND;TZID=Asia/Kolkata:20280130T103000
DTSTAMP:20260423T164441
CREATED:20171207T113519Z
LAST-MODIFIED:20171207T113519Z
UID:44670-1832830200-1832841000@anandapune.org
SUMMARY:Kriyaban Meditation
DESCRIPTION:Guided meditation for Kriyabans\, starting with the Energization Exercises\, Mahamudra and finally a long practice of Kriya Meditation.
URL:https://anandapune.org/event/kriyaban-meditation-2018-03-18/2028-01-30/
CATEGORIES:Special Events
ATTACH;FMTTYPE=image/jpeg:https://anandapune.org/wp-content/uploads/2017/12/meditation-mala.jpg
END:VEVENT
BEGIN:VEVENT
DTSTART;TZID=Asia/Kolkata:20280203T203000
DTEND;TZID=Asia/Kolkata:20280203T223000
DTSTAMP:20260423T164441
CREATED:20180311T095142Z
LAST-MODIFIED:20180311T095142Z
UID:44720-1833222600-1833229800@anandapune.org
SUMMARY:Long Meditation
DESCRIPTION:
URL:https://anandapune.org/event/long-meditation/2028-02-03/
CATEGORIES:Special Events
ATTACH;FMTTYPE=image/jpeg:https://anandapune.org/wp-content/uploads/2018/03/amruta-meditating.jpg
END:VEVENT
BEGIN:VEVENT
DTSTART;TZID=Asia/Kolkata:20280205T080000
DTEND;TZID=Asia/Kolkata:20280205T110000
DTSTAMP:20260423T164441
CREATED:20180311T095142Z
LAST-MODIFIED:20180311T095142Z
UID:44719-1833350400-1833361200@anandapune.org
SUMMARY:Long Meditation
DESCRIPTION:
URL:https://anandapune.org/event/long-meditation/2028-02-05/
CATEGORIES:Special Events
ATTACH;FMTTYPE=image/jpeg:https://anandapune.org/wp-content/uploads/2018/03/amruta-meditating.jpg
END:VEVENT
BEGIN:VEVENT
DTSTART;TZID=Asia/Kolkata:20280205T173000
DTEND;TZID=Asia/Kolkata:20280205T190000
DTSTAMP:20260423T164441
CREATED:20180906T133908Z
LAST-MODIFIED:20180906T133908Z
UID:44722-1833384600-1833390000@anandapune.org
SUMMARY:Chanting with Harmonium Lessons
DESCRIPTION:Click to Enlarge
URL:https://anandapune.org/event/chanting-with-harmonium-lessons/2028-02-05/
CATEGORIES:Special Events
ATTACH;FMTTYPE=image/jpeg:https://anandapune.org/wp-content/uploads/2018/09/harmonium-swami-kriyananda.jpg
END:VEVENT
BEGIN:VEVENT
DTSTART;TZID=Asia/Kolkata:20280206T073000
DTEND;TZID=Asia/Kolkata:20280206T103000
DTSTAMP:20260423T164441
CREATED:20171207T113519Z
LAST-MODIFIED:20171207T113519Z
UID:44728-1833435000-1833445800@anandapune.org
SUMMARY:Kriyaban Meditation
DESCRIPTION:Guided meditation for Kriyabans\, starting with the Energization Exercises\, Mahamudra and finally a long practice of Kriya Meditation.
URL:https://anandapune.org/event/kriyaban-meditation-2018-03-18/2028-02-06/
CATEGORIES:Special Events
ATTACH;FMTTYPE=image/jpeg:https://anandapune.org/wp-content/uploads/2017/12/meditation-mala.jpg
END:VEVENT
BEGIN:VEVENT
DTSTART;TZID=Asia/Kolkata:20280210T203000
DTEND;TZID=Asia/Kolkata:20280210T223000
DTSTAMP:20260423T164441
CREATED:20180311T095142Z
LAST-MODIFIED:20180311T095142Z
UID:44790-1833827400-1833834600@anandapune.org
SUMMARY:Long Meditation
DESCRIPTION:
URL:https://anandapune.org/event/long-meditation/2028-02-10/
CATEGORIES:Special Events
ATTACH;FMTTYPE=image/jpeg:https://anandapune.org/wp-content/uploads/2018/03/amruta-meditating.jpg
END:VEVENT
BEGIN:VEVENT
DTSTART;TZID=Asia/Kolkata:20280212T080000
DTEND;TZID=Asia/Kolkata:20280212T110000
DTSTAMP:20260423T164441
CREATED:20180311T095142Z
LAST-MODIFIED:20180311T095142Z
UID:44789-1833955200-1833966000@anandapune.org
SUMMARY:Long Meditation
DESCRIPTION:
URL:https://anandapune.org/event/long-meditation/2028-02-12/
CATEGORIES:Special Events
ATTACH;FMTTYPE=image/jpeg:https://anandapune.org/wp-content/uploads/2018/03/amruta-meditating.jpg
END:VEVENT
BEGIN:VEVENT
DTSTART;TZID=Asia/Kolkata:20280212T173000
DTEND;TZID=Asia/Kolkata:20280212T190000
DTSTAMP:20260423T164441
CREATED:20180906T133908Z
LAST-MODIFIED:20180906T133908Z
UID:44792-1833989400-1833994800@anandapune.org
SUMMARY:Chanting with Harmonium Lessons
DESCRIPTION:Click to Enlarge
URL:https://anandapune.org/event/chanting-with-harmonium-lessons/2028-02-12/
CATEGORIES:Special Events
ATTACH;FMTTYPE=image/jpeg:https://anandapune.org/wp-content/uploads/2018/09/harmonium-swami-kriyananda.jpg
END:VEVENT
BEGIN:VEVENT
DTSTART;TZID=Asia/Kolkata:20280213T073000
DTEND;TZID=Asia/Kolkata:20280213T103000
DTSTAMP:20260423T164441
CREATED:20171207T113519Z
LAST-MODIFIED:20171207T113519Z
UID:44797-1834039800-1834050600@anandapune.org
SUMMARY:Kriyaban Meditation
DESCRIPTION:Guided meditation for Kriyabans\, starting with the Energization Exercises\, Mahamudra and finally a long practice of Kriya Meditation.
URL:https://anandapune.org/event/kriyaban-meditation-2018-03-18/2028-02-13/
CATEGORIES:Special Events
ATTACH;FMTTYPE=image/jpeg:https://anandapune.org/wp-content/uploads/2017/12/meditation-mala.jpg
END:VEVENT
BEGIN:VEVENT
DTSTART;TZID=Asia/Kolkata:20280217T203000
DTEND;TZID=Asia/Kolkata:20280217T223000
DTSTAMP:20260423T164441
CREATED:20180311T095142Z
LAST-MODIFIED:20180311T095142Z
UID:44851-1834432200-1834439400@anandapune.org
SUMMARY:Long Meditation
DESCRIPTION:
URL:https://anandapune.org/event/long-meditation/2028-02-17/
CATEGORIES:Special Events
ATTACH;FMTTYPE=image/jpeg:https://anandapune.org/wp-content/uploads/2018/03/amruta-meditating.jpg
END:VEVENT
BEGIN:VEVENT
DTSTART;TZID=Asia/Kolkata:20280219T080000
DTEND;TZID=Asia/Kolkata:20280219T110000
DTSTAMP:20260423T164441
CREATED:20180311T095142Z
LAST-MODIFIED:20180311T095142Z
UID:44850-1834560000-1834570800@anandapune.org
SUMMARY:Long Meditation
DESCRIPTION:
URL:https://anandapune.org/event/long-meditation/2028-02-19/
CATEGORIES:Special Events
ATTACH;FMTTYPE=image/jpeg:https://anandapune.org/wp-content/uploads/2018/03/amruta-meditating.jpg
END:VEVENT
BEGIN:VEVENT
DTSTART;TZID=Asia/Kolkata:20280219T173000
DTEND;TZID=Asia/Kolkata:20280219T190000
DTSTAMP:20260423T164441
CREATED:20180906T133908Z
LAST-MODIFIED:20180906T133908Z
UID:44853-1834594200-1834599600@anandapune.org
SUMMARY:Chanting with Harmonium Lessons
DESCRIPTION:Click to Enlarge
URL:https://anandapune.org/event/chanting-with-harmonium-lessons/2028-02-19/
CATEGORIES:Special Events
ATTACH;FMTTYPE=image/jpeg:https://anandapune.org/wp-content/uploads/2018/09/harmonium-swami-kriyananda.jpg
END:VEVENT
BEGIN:VEVENT
DTSTART;TZID=Asia/Kolkata:20280220T073000
DTEND;TZID=Asia/Kolkata:20280220T103000
DTSTAMP:20260423T164441
CREATED:20171207T113519Z
LAST-MODIFIED:20171207T113519Z
UID:44858-1834644600-1834655400@anandapune.org
SUMMARY:Kriyaban Meditation
DESCRIPTION:Guided meditation for Kriyabans\, starting with the Energization Exercises\, Mahamudra and finally a long practice of Kriya Meditation.
URL:https://anandapune.org/event/kriyaban-meditation-2018-03-18/2028-02-20/
CATEGORIES:Special Events
ATTACH;FMTTYPE=image/jpeg:https://anandapune.org/wp-content/uploads/2017/12/meditation-mala.jpg
END:VEVENT
BEGIN:VEVENT
DTSTART;TZID=Asia/Kolkata:20280224T203000
DTEND;TZID=Asia/Kolkata:20280224T223000
DTSTAMP:20260423T164441
CREATED:20180311T095142Z
LAST-MODIFIED:20180311T095142Z
UID:44892-1835037000-1835044200@anandapune.org
SUMMARY:Long Meditation
DESCRIPTION:
URL:https://anandapune.org/event/long-meditation/2028-02-24/
CATEGORIES:Special Events
ATTACH;FMTTYPE=image/jpeg:https://anandapune.org/wp-content/uploads/2018/03/amruta-meditating.jpg
END:VEVENT
BEGIN:VEVENT
DTSTART;TZID=Asia/Kolkata:20280226T080000
DTEND;TZID=Asia/Kolkata:20280226T110000
DTSTAMP:20260423T164441
CREATED:20180311T095142Z
LAST-MODIFIED:20180311T095142Z
UID:44891-1835164800-1835175600@anandapune.org
SUMMARY:Long Meditation
DESCRIPTION:
URL:https://anandapune.org/event/long-meditation/2028-02-26/
CATEGORIES:Special Events
ATTACH;FMTTYPE=image/jpeg:https://anandapune.org/wp-content/uploads/2018/03/amruta-meditating.jpg
END:VEVENT
BEGIN:VEVENT
DTSTART;TZID=Asia/Kolkata:20280226T173000
DTEND;TZID=Asia/Kolkata:20280226T190000
DTSTAMP:20260423T164441
CREATED:20180906T133908Z
LAST-MODIFIED:20180906T133908Z
UID:44894-1835199000-1835204400@anandapune.org
SUMMARY:Chanting with Harmonium Lessons
DESCRIPTION:Click to Enlarge
URL:https://anandapune.org/event/chanting-with-harmonium-lessons/2028-02-26/
CATEGORIES:Special Events
ATTACH;FMTTYPE=image/jpeg:https://anandapune.org/wp-content/uploads/2018/09/harmonium-swami-kriyananda.jpg
END:VEVENT
BEGIN:VEVENT
DTSTART;TZID=Asia/Kolkata:20280227T073000
DTEND;TZID=Asia/Kolkata:20280227T103000
DTSTAMP:20260423T164441
CREATED:20171207T113519Z
LAST-MODIFIED:20171207T113519Z
UID:44899-1835249400-1835260200@anandapune.org
SUMMARY:Kriyaban Meditation
DESCRIPTION:Guided meditation for Kriyabans\, starting with the Energization Exercises\, Mahamudra and finally a long practice of Kriya Meditation.
URL:https://anandapune.org/event/kriyaban-meditation-2018-03-18/2028-02-27/
CATEGORIES:Special Events
ATTACH;FMTTYPE=image/jpeg:https://anandapune.org/wp-content/uploads/2017/12/meditation-mala.jpg
END:VEVENT
BEGIN:VEVENT
DTSTART;TZID=Asia/Kolkata:20280302T203000
DTEND;TZID=Asia/Kolkata:20280302T223000
DTSTAMP:20260423T164441
CREATED:20180311T095142Z
LAST-MODIFIED:20180311T095142Z
UID:44933-1835641800-1835649000@anandapune.org
SUMMARY:Long Meditation
DESCRIPTION:
URL:https://anandapune.org/event/long-meditation/2028-03-02/
CATEGORIES:Special Events
ATTACH;FMTTYPE=image/jpeg:https://anandapune.org/wp-content/uploads/2018/03/amruta-meditating.jpg
END:VEVENT
BEGIN:VEVENT
DTSTART;TZID=Asia/Kolkata:20280304T080000
DTEND;TZID=Asia/Kolkata:20280304T110000
DTSTAMP:20260423T164441
CREATED:20180311T095142Z
LAST-MODIFIED:20180311T095142Z
UID:44932-1835769600-1835780400@anandapune.org
SUMMARY:Long Meditation
DESCRIPTION:
URL:https://anandapune.org/event/long-meditation/2028-03-04/
CATEGORIES:Special Events
ATTACH;FMTTYPE=image/jpeg:https://anandapune.org/wp-content/uploads/2018/03/amruta-meditating.jpg
END:VEVENT
END:VCALENDAR