BEGIN:VCALENDAR
VERSION:2.0
PRODID:-//Ananda Pune - ECPv6.6.0.2//NONSGML v1.0//EN
CALSCALE:GREGORIAN
METHOD:PUBLISH
X-WR-CALNAME:Ananda Pune
X-ORIGINAL-URL:https://anandapune.org
X-WR-CALDESC:Events for Ananda Pune
REFRESH-INTERVAL;VALUE=DURATION:PT1H
X-Robots-Tag:noindex
X-PUBLISHED-TTL:PT1H
BEGIN:VTIMEZONE
TZID:Asia/Kolkata
BEGIN:STANDARD
TZOFFSETFROM:+0530
TZOFFSETTO:+0530
TZNAME:IST
DTSTART:20270101T000000
END:STANDARD
END:VTIMEZONE
BEGIN:VEVENT
DTSTART;TZID=Asia/Kolkata:20270314T113000
DTEND;TZID=Asia/Kolkata:20270314T130000
DTSTAMP:20260423T031939
CREATED:20171207T113519Z
LAST-MODIFIED:20171207T113519Z
UID:41940-1805023800-1805029200@anandapune.org
SUMMARY:Kriyaban Meditation
DESCRIPTION:
URL:https://anandapune.org/event/kriyaban-meditation/2027-03-14/
ATTACH;FMTTYPE=image/jpeg:https://anandapune.org/wp-content/uploads/2018/01/1e66c3af041a94ec61c8416c7d1013dc.jpg
END:VEVENT
BEGIN:VEVENT
DTSTART;TZID=Asia/Kolkata:20270314T073000
DTEND;TZID=Asia/Kolkata:20270314T103000
DTSTAMP:20260423T031939
CREATED:20171207T113519Z
LAST-MODIFIED:20171207T113519Z
UID:41943-1805009400-1805020200@anandapune.org
SUMMARY:Kriyaban Meditation
DESCRIPTION:Guided meditation for Kriyabans\, starting with the Energization Exercises\, Mahamudra and finally a long practice of Kriya Meditation.
URL:https://anandapune.org/event/kriyaban-meditation-2018-03-18/2027-03-14/
CATEGORIES:Special Events
ATTACH;FMTTYPE=image/jpeg:https://anandapune.org/wp-content/uploads/2017/12/meditation-mala.jpg
END:VEVENT
BEGIN:VEVENT
DTSTART;TZID=Asia/Kolkata:20270314T064500
DTEND;TZID=Asia/Kolkata:20270314T081500
DTSTAMP:20260423T031939
CREATED:20171207T114110Z
LAST-MODIFIED:20171207T114110Z
UID:41941-1805006700-1805012100@anandapune.org
SUMMARY:Morning Meditation
DESCRIPTION:
URL:https://anandapune.org/event/morning-meditation/2027-03-14/
END:VEVENT
BEGIN:VEVENT
DTSTART;TZID=Asia/Kolkata:20270313T200000
DTEND;TZID=Asia/Kolkata:20270313T210000
DTSTAMP:20260423T031939
CREATED:20180314T132401Z
LAST-MODIFIED:20180314T132401Z
UID:41915-1804968000-1804971600@anandapune.org
SUMMARY:Kirtan
DESCRIPTION:
URL:https://anandapune.org/event/kirtan/2027-03-13/
ATTACH;FMTTYPE=image/jpeg:https://anandapune.org/wp-content/uploads/2018/03/kirtan-heze.jpg
END:VEVENT
BEGIN:VEVENT
DTSTART;TZID=Asia/Kolkata:20270313T173000
DTEND;TZID=Asia/Kolkata:20270313T190000
DTSTAMP:20260423T031939
CREATED:20180906T133908Z
LAST-MODIFIED:20180906T133908Z
UID:41916-1804959000-1804964400@anandapune.org
SUMMARY:Chanting with Harmonium Lessons
DESCRIPTION:Click to Enlarge
URL:https://anandapune.org/event/chanting-with-harmonium-lessons/2027-03-13/
CATEGORIES:Special Events
ATTACH;FMTTYPE=image/jpeg:https://anandapune.org/wp-content/uploads/2018/09/harmonium-swami-kriyananda.jpg
END:VEVENT
BEGIN:VEVENT
DTSTART;TZID=Asia/Kolkata:20270313T080000
DTEND;TZID=Asia/Kolkata:20270313T110000
DTSTAMP:20260423T031939
CREATED:20180311T095142Z
LAST-MODIFIED:20180311T095142Z
UID:41913-1804924800-1804935600@anandapune.org
SUMMARY:Long Meditation
DESCRIPTION:
URL:https://anandapune.org/event/long-meditation/2027-03-13/
CATEGORIES:Special Events
ATTACH;FMTTYPE=image/jpeg:https://anandapune.org/wp-content/uploads/2018/03/amruta-meditating.jpg
END:VEVENT
BEGIN:VEVENT
DTSTART;TZID=Asia/Kolkata:20270313T073000
DTEND;TZID=Asia/Kolkata:20270313T103000
DTSTAMP:20260423T031939
CREATED:20171207T113519Z
LAST-MODIFIED:20171207T113519Z
UID:41917-1804923000-1804933800@anandapune.org
SUMMARY:Kriyaban Meditation
DESCRIPTION:On Saturdays from 7.30 AM to 10.30 AM. \nGuided meditation for Kriyabans\, starting with the Energization Exercises\, Mahamudra and finally a long practice of Kriya Meditation.
URL:https://anandapune.org/event/kriyaban-meditation-2018-03-18-2018-12-23/2027-03-13/
ATTACH;FMTTYPE=image/jpeg:https://anandapune.org/wp-content/uploads/2017/12/meditation-mala.jpg
END:VEVENT
BEGIN:VEVENT
DTSTART;TZID=Asia/Kolkata:20270313T064500
DTEND;TZID=Asia/Kolkata:20270313T081500
DTSTAMP:20260423T031939
CREATED:20171207T114110Z
LAST-MODIFIED:20171207T114110Z
UID:41912-1804920300-1804925700@anandapune.org
SUMMARY:Morning Meditation
DESCRIPTION:
URL:https://anandapune.org/event/morning-meditation/2027-03-13/
END:VEVENT
BEGIN:VEVENT
DTSTART;TZID=Asia/Kolkata:20270312T190000
DTEND;TZID=Asia/Kolkata:20270312T200000
DTSTAMP:20260423T031939
CREATED:20180515T104746Z
LAST-MODIFIED:20180515T104746Z
UID:41875-1804878000-1804881600@anandapune.org
SUMMARY:Ananda Yoga
DESCRIPTION:Ananda Yoga® brings yoga back to its original spiritual essence. Above all\, it seeks to raise your level of consciousness by reinforcing the natural effects the yoga postures. With this\, it is also designed to harmonize your body\, mind\, and soul. \nJoin us! \nKnow more about Ananda Yoga.
URL:https://anandapune.org/event/ananda-yoga-2018-07-02/2027-03-12/
ATTACH;FMTTYPE=image/jpeg:https://anandapune.org/wp-content/uploads/2018/05/yoga-cobra.jpg
END:VEVENT
BEGIN:VEVENT
DTSTART;TZID=Asia/Kolkata:20270312T180000
DTEND;TZID=Asia/Kolkata:20270312T193000
DTSTAMP:20260423T031939
CREATED:20171207T114409Z
LAST-MODIFIED:20171207T114409Z
UID:41872-1804874400-1804879800@anandapune.org
SUMMARY:Book Study - Koregaon Park
DESCRIPTION:Together we read a book from our spiritual path. The leader shares some thoughts of inspiration and there is space to share our insights with the group. Right now we are studying “Paramhansa Yogananda\, A Biography” written by Swami Kriyananda.
URL:https://anandapune.org/event/book-study-koregaon-park/2027-03-12/
ATTACH;FMTTYPE=image/jpeg:https://anandapune.org/wp-content/uploads/2017/12/biography-square.jpg
END:VEVENT
BEGIN:VEVENT
DTSTART;TZID=Asia/Kolkata:20270312T123500
DTEND;TZID=Asia/Kolkata:20270312T130000
DTSTAMP:20260423T031939
CREATED:20181021T083935Z
LAST-MODIFIED:20181021T083935Z
UID:41877-1804854900-1804856400@anandapune.org
SUMMARY:Noon Meditation
DESCRIPTION:An online group meditation. Meditate with us before your lunch break at 12:35 to 1 PM\, to recharge and be reïnspired for the rest of the day ahead. \nClick here to join the meditation.
URL:https://anandapune.org/event/noon-meditation/2027-03-12/
ATTACH;FMTTYPE=image/jpeg:https://anandapune.org/wp-content/uploads/2018/10/noon-meditation.jpg
END:VEVENT
BEGIN:VEVENT
DTSTART;TZID=Asia/Kolkata:20270312T064500
DTEND;TZID=Asia/Kolkata:20270312T081500
DTSTAMP:20260423T031939
CREATED:20190115T100405Z
LAST-MODIFIED:20190115T100405Z
UID:41878-1804833900-1804839300@anandapune.org
SUMMARY:Morning Meditation
DESCRIPTION:
URL:https://anandapune.org/event/morning-meditation-3/2027-03-12/
ATTACH;FMTTYPE=image/jpeg:https://anandapune.org/wp-content/uploads/2018/01/prayer-square.jpg
END:VEVENT
BEGIN:VEVENT
DTSTART;TZID=Asia/Kolkata:20270312T064500
DTEND;TZID=Asia/Kolkata:20270312T081500
DTSTAMP:20260423T031939
CREATED:20180505T174917Z
LAST-MODIFIED:20180505T174917Z
UID:41876-1804833900-1804839300@anandapune.org
SUMMARY:Morning Meditation
DESCRIPTION:Feel the group support in your daily meditations by joining our morning sadhana! We will start our meditation with chanting and a prayer and end with sending healing prayers.
URL:https://anandapune.org/event/morning-meditation-2-2018-10-05/2027-03-12/
ATTACH;FMTTYPE=image/jpeg:https://anandapune.org/wp-content/uploads/2018/01/prayer-square.jpg
END:VEVENT
BEGIN:VEVENT
DTSTART;TZID=Asia/Kolkata:20270312T064500
DTEND;TZID=Asia/Kolkata:20270312T081500
DTSTAMP:20260423T031939
CREATED:20171207T114110Z
LAST-MODIFIED:20171207T114110Z
UID:41871-1804833900-1804839300@anandapune.org
SUMMARY:Morning Meditation
DESCRIPTION:
URL:https://anandapune.org/event/morning-meditation/2027-03-12/
END:VEVENT
BEGIN:VEVENT
DTSTART;TZID=Asia/Kolkata:20270312T063000
DTEND;TZID=Asia/Kolkata:20270312T073000
DTSTAMP:20260423T031939
CREATED:20180515T104746Z
LAST-MODIFIED:20180515T104746Z
UID:41873-1804833000-1804836600@anandapune.org
SUMMARY:Ananda Yoga
DESCRIPTION:
URL:https://anandapune.org/event/ananda-yoga/2027-03-12/
ATTACH;FMTTYPE=image/jpeg:https://anandapune.org/wp-content/uploads/2018/05/yoga-cobra.jpg
END:VEVENT
BEGIN:VEVENT
DTSTART;TZID=Asia/Kolkata:20270312T063000
DTEND;TZID=Asia/Kolkata:20270312T073000
DTSTAMP:20260423T031939
CREATED:20180515T104746Z
LAST-MODIFIED:20180515T104746Z
UID:41874-1804833000-1804836600@anandapune.org
SUMMARY:Ananda Yoga
DESCRIPTION:Ananda Yoga® brings yoga back to its original spiritual essence. Above all\, it seeks to raise your level of consciousness by reinforcing the natural effects the yoga postures. With this\, it is also designed to harmonize your body\, mind\, and soul. \nJoin us! \nKnow more about Ananda Yoga.
URL:https://anandapune.org/event/ananda-yoga-2018-07-02/2027-03-12/
ATTACH;FMTTYPE=image/jpeg:https://anandapune.org/wp-content/uploads/2018/05/yoga-cobra.jpg
END:VEVENT
BEGIN:VEVENT
DTSTART;TZID=Asia/Kolkata:20270311T203000
DTEND;TZID=Asia/Kolkata:20270311T223000
DTSTAMP:20260423T031939
CREATED:20180311T095142Z
LAST-MODIFIED:20180311T095142Z
UID:41914-1804797000-1804804200@anandapune.org
SUMMARY:Long Meditation
DESCRIPTION:
URL:https://anandapune.org/event/long-meditation/2027-03-11/
CATEGORIES:Special Events
ATTACH;FMTTYPE=image/jpeg:https://anandapune.org/wp-content/uploads/2018/03/amruta-meditating.jpg
END:VEVENT
BEGIN:VEVENT
DTSTART;TZID=Asia/Kolkata:20270311T183000
DTEND;TZID=Asia/Kolkata:20270311T200000
DTSTAMP:20260423T031939
CREATED:20171207T113939Z
LAST-MODIFIED:20171207T113939Z
UID:41860-1804789800-1804795200@anandapune.org
SUMMARY:Bhagavad Gita Satsang
DESCRIPTION:A discourse based on a verse from The Bhagavad Gita. \nThe flow of the evening: \n\nEnergization Exercises\nChanting\nMeditation\nDiscourse\nAarti
URL:https://anandapune.org/event/bhagavad-gita-satsang/2027-03-11/
CATEGORIES:Live Online Broadcast
ATTACH;FMTTYPE=image/jpeg:https://anandapune.org/wp-content/uploads/2018/01/hqdefault.jpg
END:VEVENT
BEGIN:VEVENT
DTSTART;TZID=Asia/Kolkata:20270311T123500
DTEND;TZID=Asia/Kolkata:20270311T130000
DTSTAMP:20260423T031939
CREATED:20181021T083935Z
LAST-MODIFIED:20181021T083935Z
UID:41863-1804768500-1804770000@anandapune.org
SUMMARY:Noon Meditation
DESCRIPTION:An online group meditation. Meditate with us before your lunch break at 12:35 to 1 PM\, to recharge and be reïnspired for the rest of the day ahead. \nClick here to join the meditation.
URL:https://anandapune.org/event/noon-meditation/2027-03-11/
ATTACH;FMTTYPE=image/jpeg:https://anandapune.org/wp-content/uploads/2018/10/noon-meditation.jpg
END:VEVENT
BEGIN:VEVENT
DTSTART;TZID=Asia/Kolkata:20270311T064500
DTEND;TZID=Asia/Kolkata:20270311T081500
DTSTAMP:20260423T031939
CREATED:20190115T100405Z
LAST-MODIFIED:20190115T100405Z
UID:41864-1804747500-1804752900@anandapune.org
SUMMARY:Morning Meditation
DESCRIPTION:
URL:https://anandapune.org/event/morning-meditation-3/2027-03-11/
ATTACH;FMTTYPE=image/jpeg:https://anandapune.org/wp-content/uploads/2018/01/prayer-square.jpg
END:VEVENT
BEGIN:VEVENT
DTSTART;TZID=Asia/Kolkata:20270311T064500
DTEND;TZID=Asia/Kolkata:20270311T081500
DTSTAMP:20260423T031939
CREATED:20180505T174917Z
LAST-MODIFIED:20180505T174917Z
UID:41862-1804747500-1804752900@anandapune.org
SUMMARY:Morning Meditation
DESCRIPTION:Feel the group support in your daily meditations by joining our morning sadhana! We will start our meditation with chanting and a prayer and end with sending healing prayers.
URL:https://anandapune.org/event/morning-meditation-2-2018-10-05/2027-03-11/
ATTACH;FMTTYPE=image/jpeg:https://anandapune.org/wp-content/uploads/2018/01/prayer-square.jpg
END:VEVENT
BEGIN:VEVENT
DTSTART;TZID=Asia/Kolkata:20270311T064500
DTEND;TZID=Asia/Kolkata:20270311T081500
DTSTAMP:20260423T031939
CREATED:20171207T114110Z
LAST-MODIFIED:20171207T114110Z
UID:41861-1804747500-1804752900@anandapune.org
SUMMARY:Morning Meditation
DESCRIPTION:
URL:https://anandapune.org/event/morning-meditation/2027-03-11/
END:VEVENT
BEGIN:VEVENT
DTSTART;TZID=Asia/Kolkata:20270310T190000
DTEND;TZID=Asia/Kolkata:20270310T200000
DTSTAMP:20260423T031939
CREATED:20180515T104746Z
LAST-MODIFIED:20180515T104746Z
UID:41856-1804705200-1804708800@anandapune.org
SUMMARY:Ananda Yoga
DESCRIPTION:Ananda Yoga® brings yoga back to its original spiritual essence. Above all\, it seeks to raise your level of consciousness by reinforcing the natural effects the yoga postures. With this\, it is also designed to harmonize your body\, mind\, and soul. \nJoin us! \nKnow more about Ananda Yoga.
URL:https://anandapune.org/event/ananda-yoga-2018-07-02/2027-03-10/
ATTACH;FMTTYPE=image/jpeg:https://anandapune.org/wp-content/uploads/2018/05/yoga-cobra.jpg
END:VEVENT
BEGIN:VEVENT
DTSTART;TZID=Asia/Kolkata:20270310T180000
DTEND;TZID=Asia/Kolkata:20270310T190000
DTSTAMP:20260423T031939
CREATED:20171207T114249Z
LAST-MODIFIED:20171207T114249Z
UID:41854-1804701600-1804705200@anandapune.org
SUMMARY:Choir with Baraquiel
DESCRIPTION:Together we will learn to sing the beautiful\, uplifting choir songs that Swami Kriyananda has written and composed.\nBaraquiel guides us from warming up to learning to sing the different parts and prepare a performance.
URL:https://anandapune.org/event/choir-with-baraquiel/2027-03-10/
ATTACH;FMTTYPE=image/jpeg:https://anandapune.org/wp-content/uploads/2017/12/choir-featim.jpg
END:VEVENT
BEGIN:VEVENT
DTSTART;TZID=Asia/Kolkata:20270310T123500
DTEND;TZID=Asia/Kolkata:20270310T130000
DTSTAMP:20260423T031939
CREATED:20181021T083935Z
LAST-MODIFIED:20181021T083935Z
UID:41858-1804682100-1804683600@anandapune.org
SUMMARY:Noon Meditation
DESCRIPTION:An online group meditation. Meditate with us before your lunch break at 12:35 to 1 PM\, to recharge and be reïnspired for the rest of the day ahead. \nClick here to join the meditation.
URL:https://anandapune.org/event/noon-meditation/2027-03-10/
ATTACH;FMTTYPE=image/jpeg:https://anandapune.org/wp-content/uploads/2018/10/noon-meditation.jpg
END:VEVENT
BEGIN:VEVENT
DTSTART;TZID=Asia/Kolkata:20270310T064500
DTEND;TZID=Asia/Kolkata:20270310T081500
DTSTAMP:20260423T031939
CREATED:20190115T100405Z
LAST-MODIFIED:20190115T100405Z
UID:41859-1804661100-1804666500@anandapune.org
SUMMARY:Morning Meditation
DESCRIPTION:
URL:https://anandapune.org/event/morning-meditation-3/2027-03-10/
ATTACH;FMTTYPE=image/jpeg:https://anandapune.org/wp-content/uploads/2018/01/prayer-square.jpg
END:VEVENT
BEGIN:VEVENT
DTSTART;TZID=Asia/Kolkata:20270310T064500
DTEND;TZID=Asia/Kolkata:20270310T081500
DTSTAMP:20260423T031939
CREATED:20180505T174917Z
LAST-MODIFIED:20180505T174917Z
UID:41857-1804661100-1804666500@anandapune.org
SUMMARY:Morning Meditation
DESCRIPTION:Feel the group support in your daily meditations by joining our morning sadhana! We will start our meditation with chanting and a prayer and end with sending healing prayers.
URL:https://anandapune.org/event/morning-meditation-2-2018-10-05/2027-03-10/
ATTACH;FMTTYPE=image/jpeg:https://anandapune.org/wp-content/uploads/2018/01/prayer-square.jpg
END:VEVENT
BEGIN:VEVENT
DTSTART;TZID=Asia/Kolkata:20270310T064500
DTEND;TZID=Asia/Kolkata:20270310T081500
DTSTAMP:20260423T031939
CREATED:20171207T114110Z
LAST-MODIFIED:20171207T114110Z
UID:41853-1804661100-1804666500@anandapune.org
SUMMARY:Morning Meditation
DESCRIPTION:
URL:https://anandapune.org/event/morning-meditation/2027-03-10/
END:VEVENT
BEGIN:VEVENT
DTSTART;TZID=Asia/Kolkata:20270310T063000
DTEND;TZID=Asia/Kolkata:20270310T073000
DTSTAMP:20260423T031939
CREATED:20180515T104746Z
LAST-MODIFIED:20180515T104746Z
UID:41855-1804660200-1804663800@anandapune.org
SUMMARY:Ananda Yoga
DESCRIPTION:Ananda Yoga® brings yoga back to its original spiritual essence. Above all\, it seeks to raise your level of consciousness by reinforcing the natural effects the yoga postures. With this\, it is also designed to harmonize your body\, mind\, and soul. \nJoin us! \nKnow more about Ananda Yoga.
URL:https://anandapune.org/event/ananda-yoga-2018-07-02/2027-03-10/
ATTACH;FMTTYPE=image/jpeg:https://anandapune.org/wp-content/uploads/2018/05/yoga-cobra.jpg
END:VEVENT
BEGIN:VEVENT
DTSTART;TZID=Asia/Kolkata:20270309T123500
DTEND;TZID=Asia/Kolkata:20270309T130000
DTSTAMP:20260423T031939
CREATED:20181021T083935Z
LAST-MODIFIED:20181021T083935Z
UID:41850-1804595700-1804597200@anandapune.org
SUMMARY:Noon Meditation
DESCRIPTION:An online group meditation. Meditate with us before your lunch break at 12:35 to 1 PM\, to recharge and be reïnspired for the rest of the day ahead. \nClick here to join the meditation.
URL:https://anandapune.org/event/noon-meditation/2027-03-09/
ATTACH;FMTTYPE=image/jpeg:https://anandapune.org/wp-content/uploads/2018/10/noon-meditation.jpg
END:VEVENT
END:VCALENDAR