BEGIN:VCALENDAR
VERSION:2.0
PRODID:-//Ananda Pune - ECPv6.6.0.2//NONSGML v1.0//EN
CALSCALE:GREGORIAN
METHOD:PUBLISH
X-WR-CALNAME:Ananda Pune
X-ORIGINAL-URL:https://anandapune.org
X-WR-CALDESC:Events for Ananda Pune
REFRESH-INTERVAL;VALUE=DURATION:PT1H
X-Robots-Tag:noindex
X-PUBLISHED-TTL:PT1H
BEGIN:VTIMEZONE
TZID:Asia/Kolkata
BEGIN:STANDARD
TZOFFSETFROM:+0530
TZOFFSETTO:+0530
TZNAME:IST
DTSTART:20250101T000000
END:STANDARD
END:VTIMEZONE
BEGIN:VEVENT
DTSTART;TZID=Asia/Kolkata:20250720T180000
DTEND;TZID=Asia/Kolkata:20250720T190000
DTSTAMP:20260423T111342
CREATED:20180225T035300Z
LAST-MODIFIED:20180225T035300Z
UID:36043-1753034400-1753038000@anandapune.org
SUMMARY:Sunday Satsang
DESCRIPTION:A discourse based on a reading from “Rays of the One Light“ written by Swami Kriyananda. \nFlow of the evening: \n\nChanting\nShort Meditation\nDiscourse\nAarti
URL:https://anandapune.org/event/sunday-satsang-4-2018-03-04-2018-03-11/2025-07-20/
CATEGORIES:Live Online Broadcast
ATTACH;FMTTYPE=image/jpeg:https://anandapune.org/wp-content/uploads/2018/02/sagar_thumbnail3.jpg
END:VEVENT
BEGIN:VEVENT
DTSTART;TZID=Asia/Kolkata:20250720T113000
DTEND;TZID=Asia/Kolkata:20250720T130000
DTSTAMP:20260423T111342
CREATED:20171207T113519Z
LAST-MODIFIED:20171207T113519Z
UID:34001-1753011000-1753016400@anandapune.org
SUMMARY:Kriyaban Meditation
DESCRIPTION:
URL:https://anandapune.org/event/kriyaban-meditation/2025-07-20/
ATTACH;FMTTYPE=image/jpeg:https://anandapune.org/wp-content/uploads/2018/01/1e66c3af041a94ec61c8416c7d1013dc.jpg
END:VEVENT
BEGIN:VEVENT
DTSTART;TZID=Asia/Kolkata:20250720T083000
DTEND;TZID=Asia/Kolkata:20250720T093000
DTSTAMP:20260423T111342
CREATED:20180515T104746Z
LAST-MODIFIED:20180515T104746Z
UID:31361-1753000200-1753003800@anandapune.org
SUMMARY:Ananda Yoga
DESCRIPTION:
URL:https://anandapune.org/event/ananda-yoga/2025-07-20/
ATTACH;FMTTYPE=image/jpeg:https://anandapune.org/wp-content/uploads/2018/05/yoga-cobra.jpg
END:VEVENT
BEGIN:VEVENT
DTSTART;TZID=Asia/Kolkata:20250720T073000
DTEND;TZID=Asia/Kolkata:20250720T103000
DTSTAMP:20260423T111342
CREATED:20171207T113519Z
LAST-MODIFIED:20171207T113519Z
UID:36233-1752996600-1753007400@anandapune.org
SUMMARY:Kriyaban Meditation
DESCRIPTION:Guided meditation for Kriyabans\, starting with the Energization Exercises\, Mahamudra and finally a long practice of Kriya Meditation.
URL:https://anandapune.org/event/kriyaban-meditation-2018-03-18/2025-07-20/
CATEGORIES:Special Events
ATTACH;FMTTYPE=image/jpeg:https://anandapune.org/wp-content/uploads/2017/12/meditation-mala.jpg
END:VEVENT
BEGIN:VEVENT
DTSTART;TZID=Asia/Kolkata:20250720T064500
DTEND;TZID=Asia/Kolkata:20250720T081500
DTSTAMP:20260423T111342
CREATED:20171207T114110Z
LAST-MODIFIED:20171207T114110Z
UID:35143-1752993900-1752999300@anandapune.org
SUMMARY:Morning Meditation
DESCRIPTION:
URL:https://anandapune.org/event/morning-meditation/2025-07-20/
END:VEVENT
BEGIN:VEVENT
DTSTART;TZID=Asia/Kolkata:20250719T200000
DTEND;TZID=Asia/Kolkata:20250719T210000
DTSTAMP:20260423T111342
CREATED:20180314T132401Z
LAST-MODIFIED:20180314T132401Z
UID:36789-1752955200-1752958800@anandapune.org
SUMMARY:Kirtan
DESCRIPTION:
URL:https://anandapune.org/event/kirtan/2025-07-19/
ATTACH;FMTTYPE=image/jpeg:https://anandapune.org/wp-content/uploads/2018/03/kirtan-heze.jpg
END:VEVENT
BEGIN:VEVENT
DTSTART;TZID=Asia/Kolkata:20250719T080000
DTEND;TZID=Asia/Kolkata:20250719T110000
DTSTAMP:20260423T111342
CREATED:20180311T095142Z
LAST-MODIFIED:20180311T095142Z
UID:36410-1752912000-1752922800@anandapune.org
SUMMARY:Long Meditation
DESCRIPTION:
URL:https://anandapune.org/event/long-meditation/2025-07-19/
CATEGORIES:Special Events
ATTACH;FMTTYPE=image/jpeg:https://anandapune.org/wp-content/uploads/2018/03/amruta-meditating.jpg
END:VEVENT
BEGIN:VEVENT
DTSTART;TZID=Asia/Kolkata:20250719T073000
DTEND;TZID=Asia/Kolkata:20250719T103000
DTSTAMP:20260423T111342
CREATED:20171207T113519Z
LAST-MODIFIED:20171207T113519Z
UID:39404-1752910200-1752921000@anandapune.org
SUMMARY:Kriyaban Meditation
DESCRIPTION:On Saturdays from 7.30 AM to 10.30 AM. \nGuided meditation for Kriyabans\, starting with the Energization Exercises\, Mahamudra and finally a long practice of Kriya Meditation.
URL:https://anandapune.org/event/kriyaban-meditation-2018-03-18-2018-12-23/2025-07-19/
ATTACH;FMTTYPE=image/jpeg:https://anandapune.org/wp-content/uploads/2017/12/meditation-mala.jpg
END:VEVENT
BEGIN:VEVENT
DTSTART;TZID=Asia/Kolkata:20250719T064500
DTEND;TZID=Asia/Kolkata:20250719T081500
DTSTAMP:20260423T111342
CREATED:20171207T114110Z
LAST-MODIFIED:20171207T114110Z
UID:35142-1752907500-1752912900@anandapune.org
SUMMARY:Morning Meditation
DESCRIPTION:
URL:https://anandapune.org/event/morning-meditation/2025-07-19/
END:VEVENT
BEGIN:VEVENT
DTSTART;TZID=Asia/Kolkata:20250718T190000
DTEND;TZID=Asia/Kolkata:20250718T200000
DTSTAMP:20260423T111342
CREATED:20180515T104746Z
LAST-MODIFIED:20180515T104746Z
UID:33265-1752865200-1752868800@anandapune.org
SUMMARY:Ananda Yoga
DESCRIPTION:Ananda Yoga® brings yoga back to its original spiritual essence. Above all\, it seeks to raise your level of consciousness by reinforcing the natural effects the yoga postures. With this\, it is also designed to harmonize your body\, mind\, and soul. \nJoin us! \nKnow more about Ananda Yoga.
URL:https://anandapune.org/event/ananda-yoga-2018-07-02/2025-07-18/
ATTACH;FMTTYPE=image/jpeg:https://anandapune.org/wp-content/uploads/2018/05/yoga-cobra.jpg
END:VEVENT
BEGIN:VEVENT
DTSTART;TZID=Asia/Kolkata:20250718T180000
DTEND;TZID=Asia/Kolkata:20250718T193000
DTSTAMP:20260423T111342
CREATED:20171207T114409Z
LAST-MODIFIED:20171207T114409Z
UID:35853-1752861600-1752867000@anandapune.org
SUMMARY:Book Study - Koregaon Park
DESCRIPTION:Together we read a book from our spiritual path. The leader shares some thoughts of inspiration and there is space to share our insights with the group. Right now we are studying “Paramhansa Yogananda\, A Biography” written by Swami Kriyananda.
URL:https://anandapune.org/event/book-study-koregaon-park/2025-07-18/
ATTACH;FMTTYPE=image/jpeg:https://anandapune.org/wp-content/uploads/2017/12/biography-square.jpg
END:VEVENT
BEGIN:VEVENT
DTSTART;TZID=Asia/Kolkata:20250718T064500
DTEND;TZID=Asia/Kolkata:20250718T081500
DTSTAMP:20260423T111342
CREATED:20180505T174917Z
LAST-MODIFIED:20180505T174917Z
UID:38222-1752821100-1752826500@anandapune.org
SUMMARY:Morning Meditation
DESCRIPTION:Feel the group support in your daily meditations by joining our morning sadhana! We will start our meditation with chanting and a prayer and end with sending healing prayers.
URL:https://anandapune.org/event/morning-meditation-2-2018-10-05/2025-07-18/
ATTACH;FMTTYPE=image/jpeg:https://anandapune.org/wp-content/uploads/2018/01/prayer-square.jpg
END:VEVENT
BEGIN:VEVENT
DTSTART;TZID=Asia/Kolkata:20250718T064500
DTEND;TZID=Asia/Kolkata:20250718T081500
DTSTAMP:20260423T111342
CREATED:20171207T114110Z
LAST-MODIFIED:20171207T114110Z
UID:35141-1752821100-1752826500@anandapune.org
SUMMARY:Morning Meditation
DESCRIPTION:
URL:https://anandapune.org/event/morning-meditation/2025-07-18/
END:VEVENT
BEGIN:VEVENT
DTSTART;TZID=Asia/Kolkata:20250718T063000
DTEND;TZID=Asia/Kolkata:20250718T073000
DTSTAMP:20260423T111342
CREATED:20180515T104746Z
LAST-MODIFIED:20180515T104746Z
UID:32424-1752820200-1752823800@anandapune.org
SUMMARY:Ananda Yoga
DESCRIPTION:Ananda Yoga® brings yoga back to its original spiritual essence. Above all\, it seeks to raise your level of consciousness by reinforcing the natural effects the yoga postures. With this\, it is also designed to harmonize your body\, mind\, and soul. \nJoin us! \nKnow more about Ananda Yoga.
URL:https://anandapune.org/event/ananda-yoga-2018-07-02/2025-07-18/
ATTACH;FMTTYPE=image/jpeg:https://anandapune.org/wp-content/uploads/2018/05/yoga-cobra.jpg
END:VEVENT
BEGIN:VEVENT
DTSTART;TZID=Asia/Kolkata:20250718T063000
DTEND;TZID=Asia/Kolkata:20250718T073000
DTSTAMP:20260423T111342
CREATED:20180515T104746Z
LAST-MODIFIED:20180515T104746Z
UID:30475-1752820200-1752823800@anandapune.org
SUMMARY:Ananda Yoga
DESCRIPTION:
URL:https://anandapune.org/event/ananda-yoga/2025-07-18/
ATTACH;FMTTYPE=image/jpeg:https://anandapune.org/wp-content/uploads/2018/05/yoga-cobra.jpg
END:VEVENT
BEGIN:VEVENT
DTSTART;TZID=Asia/Kolkata:20250717T203000
DTEND;TZID=Asia/Kolkata:20250717T223000
DTSTAMP:20260423T111342
CREATED:20180311T095142Z
LAST-MODIFIED:20180311T095142Z
UID:36599-1752784200-1752791400@anandapune.org
SUMMARY:Long Meditation
DESCRIPTION:
URL:https://anandapune.org/event/long-meditation/2025-07-17/
CATEGORIES:Special Events
ATTACH;FMTTYPE=image/jpeg:https://anandapune.org/wp-content/uploads/2018/03/amruta-meditating.jpg
END:VEVENT
BEGIN:VEVENT
DTSTART;TZID=Asia/Kolkata:20250717T183000
DTEND;TZID=Asia/Kolkata:20250717T200000
DTSTAMP:20260423T111342
CREATED:20171207T113939Z
LAST-MODIFIED:20171207T113939Z
UID:34145-1752777000-1752782400@anandapune.org
SUMMARY:Bhagavad Gita Satsang
DESCRIPTION:A discourse based on a verse from The Bhagavad Gita. \nThe flow of the evening: \n\nEnergization Exercises\nChanting\nMeditation\nDiscourse\nAarti
URL:https://anandapune.org/event/bhagavad-gita-satsang/2025-07-17/
CATEGORIES:Live Online Broadcast
ATTACH;FMTTYPE=image/jpeg:https://anandapune.org/wp-content/uploads/2018/01/hqdefault.jpg
END:VEVENT
BEGIN:VEVENT
DTSTART;TZID=Asia/Kolkata:20250717T064500
DTEND;TZID=Asia/Kolkata:20250717T081500
DTSTAMP:20260423T111342
CREATED:20180505T174917Z
LAST-MODIFIED:20180505T174917Z
UID:38221-1752734700-1752740100@anandapune.org
SUMMARY:Morning Meditation
DESCRIPTION:Feel the group support in your daily meditations by joining our morning sadhana! We will start our meditation with chanting and a prayer and end with sending healing prayers.
URL:https://anandapune.org/event/morning-meditation-2-2018-10-05/2025-07-17/
ATTACH;FMTTYPE=image/jpeg:https://anandapune.org/wp-content/uploads/2018/01/prayer-square.jpg
END:VEVENT
BEGIN:VEVENT
DTSTART;TZID=Asia/Kolkata:20250717T064500
DTEND;TZID=Asia/Kolkata:20250717T081500
DTSTAMP:20260423T111342
CREATED:20171207T114110Z
LAST-MODIFIED:20171207T114110Z
UID:35140-1752734700-1752740100@anandapune.org
SUMMARY:Morning Meditation
DESCRIPTION:
URL:https://anandapune.org/event/morning-meditation/2025-07-17/
END:VEVENT
BEGIN:VEVENT
DTSTART;TZID=Asia/Kolkata:20250716T190000
DTEND;TZID=Asia/Kolkata:20250716T200000
DTSTAMP:20260423T111342
CREATED:20180515T104746Z
LAST-MODIFIED:20180515T104746Z
UID:33264-1752692400-1752696000@anandapune.org
SUMMARY:Ananda Yoga
DESCRIPTION:Ananda Yoga® brings yoga back to its original spiritual essence. Above all\, it seeks to raise your level of consciousness by reinforcing the natural effects the yoga postures. With this\, it is also designed to harmonize your body\, mind\, and soul. \nJoin us! \nKnow more about Ananda Yoga.
URL:https://anandapune.org/event/ananda-yoga-2018-07-02/2025-07-16/
ATTACH;FMTTYPE=image/jpeg:https://anandapune.org/wp-content/uploads/2018/05/yoga-cobra.jpg
END:VEVENT
BEGIN:VEVENT
DTSTART;TZID=Asia/Kolkata:20250716T180000
DTEND;TZID=Asia/Kolkata:20250716T190000
DTSTAMP:20260423T111342
CREATED:20171207T114249Z
LAST-MODIFIED:20171207T114249Z
UID:35663-1752688800-1752692400@anandapune.org
SUMMARY:Choir with Baraquiel
DESCRIPTION:Together we will learn to sing the beautiful\, uplifting choir songs that Swami Kriyananda has written and composed.\nBaraquiel guides us from warming up to learning to sing the different parts and prepare a performance.
URL:https://anandapune.org/event/choir-with-baraquiel/2025-07-16/
ATTACH;FMTTYPE=image/jpeg:https://anandapune.org/wp-content/uploads/2017/12/choir-featim.jpg
END:VEVENT
BEGIN:VEVENT
DTSTART;TZID=Asia/Kolkata:20250716T093000
DTEND;TZID=Asia/Kolkata:20250716T103000
DTSTAMP:20260423T111342
CREATED:20180515T104746Z
LAST-MODIFIED:20180515T104746Z
UID:30945-1752658200-1752661800@anandapune.org
SUMMARY:Ananda Yoga
DESCRIPTION:
URL:https://anandapune.org/event/ananda-yoga/2025-07-16/
ATTACH;FMTTYPE=image/jpeg:https://anandapune.org/wp-content/uploads/2018/05/yoga-cobra.jpg
END:VEVENT
BEGIN:VEVENT
DTSTART;TZID=Asia/Kolkata:20250716T064500
DTEND;TZID=Asia/Kolkata:20250716T081500
DTSTAMP:20260423T111342
CREATED:20180505T174917Z
LAST-MODIFIED:20180505T174917Z
UID:38220-1752648300-1752653700@anandapune.org
SUMMARY:Morning Meditation
DESCRIPTION:Feel the group support in your daily meditations by joining our morning sadhana! We will start our meditation with chanting and a prayer and end with sending healing prayers.
URL:https://anandapune.org/event/morning-meditation-2-2018-10-05/2025-07-16/
ATTACH;FMTTYPE=image/jpeg:https://anandapune.org/wp-content/uploads/2018/01/prayer-square.jpg
END:VEVENT
BEGIN:VEVENT
DTSTART;TZID=Asia/Kolkata:20250716T064500
DTEND;TZID=Asia/Kolkata:20250716T081500
DTSTAMP:20260423T111342
CREATED:20171207T114110Z
LAST-MODIFIED:20171207T114110Z
UID:35139-1752648300-1752653700@anandapune.org
SUMMARY:Morning Meditation
DESCRIPTION:
URL:https://anandapune.org/event/morning-meditation/2025-07-16/
END:VEVENT
BEGIN:VEVENT
DTSTART;TZID=Asia/Kolkata:20250716T063000
DTEND;TZID=Asia/Kolkata:20250716T073000
DTSTAMP:20260423T111342
CREATED:20180515T104746Z
LAST-MODIFIED:20180515T104746Z
UID:32423-1752647400-1752651000@anandapune.org
SUMMARY:Ananda Yoga
DESCRIPTION:Ananda Yoga® brings yoga back to its original spiritual essence. Above all\, it seeks to raise your level of consciousness by reinforcing the natural effects the yoga postures. With this\, it is also designed to harmonize your body\, mind\, and soul. \nJoin us! \nKnow more about Ananda Yoga.
URL:https://anandapune.org/event/ananda-yoga-2018-07-02/2025-07-16/
ATTACH;FMTTYPE=image/jpeg:https://anandapune.org/wp-content/uploads/2018/05/yoga-cobra.jpg
END:VEVENT
BEGIN:VEVENT
DTSTART;TZID=Asia/Kolkata:20250715T064500
DTEND;TZID=Asia/Kolkata:20250715T081500
DTSTAMP:20260423T111342
CREATED:20180505T174917Z
LAST-MODIFIED:20180505T174917Z
UID:38219-1752561900-1752567300@anandapune.org
SUMMARY:Morning Meditation
DESCRIPTION:Feel the group support in your daily meditations by joining our morning sadhana! We will start our meditation with chanting and a prayer and end with sending healing prayers.
URL:https://anandapune.org/event/morning-meditation-2-2018-10-05/2025-07-15/
ATTACH;FMTTYPE=image/jpeg:https://anandapune.org/wp-content/uploads/2018/01/prayer-square.jpg
END:VEVENT
BEGIN:VEVENT
DTSTART;TZID=Asia/Kolkata:20250715T064500
DTEND;TZID=Asia/Kolkata:20250715T081500
DTSTAMP:20260423T111342
CREATED:20171207T114110Z
LAST-MODIFIED:20171207T114110Z
UID:35138-1752561900-1752567300@anandapune.org
SUMMARY:Morning Meditation
DESCRIPTION:
URL:https://anandapune.org/event/morning-meditation/2025-07-15/
END:VEVENT
BEGIN:VEVENT
DTSTART;TZID=Asia/Kolkata:20250714T190000
DTEND;TZID=Asia/Kolkata:20250714T200000
DTSTAMP:20260423T111342
CREATED:20180515T104746Z
LAST-MODIFIED:20180515T104746Z
UID:33263-1752519600-1752523200@anandapune.org
SUMMARY:Ananda Yoga
DESCRIPTION:Ananda Yoga® brings yoga back to its original spiritual essence. Above all\, it seeks to raise your level of consciousness by reinforcing the natural effects the yoga postures. With this\, it is also designed to harmonize your body\, mind\, and soul. \nJoin us! \nKnow more about Ananda Yoga.
URL:https://anandapune.org/event/ananda-yoga-2018-07-02/2025-07-14/
ATTACH;FMTTYPE=image/jpeg:https://anandapune.org/wp-content/uploads/2018/05/yoga-cobra.jpg
END:VEVENT
BEGIN:VEVENT
DTSTART;TZID=Asia/Kolkata:20250714T064500
DTEND;TZID=Asia/Kolkata:20250714T081500
DTSTAMP:20260423T111342
CREATED:20171207T114110Z
LAST-MODIFIED:20171207T114110Z
UID:35137-1752475500-1752480900@anandapune.org
SUMMARY:Morning Meditation
DESCRIPTION:
URL:https://anandapune.org/event/morning-meditation/2025-07-14/
END:VEVENT
BEGIN:VEVENT
DTSTART;TZID=Asia/Kolkata:20250714T063000
DTEND;TZID=Asia/Kolkata:20250714T073000
DTSTAMP:20260423T111342
CREATED:20180515T104746Z
LAST-MODIFIED:20180515T104746Z
UID:32422-1752474600-1752478200@anandapune.org
SUMMARY:Ananda Yoga
DESCRIPTION:Ananda Yoga® brings yoga back to its original spiritual essence. Above all\, it seeks to raise your level of consciousness by reinforcing the natural effects the yoga postures. With this\, it is also designed to harmonize your body\, mind\, and soul. \nJoin us! \nKnow more about Ananda Yoga.
URL:https://anandapune.org/event/ananda-yoga-2018-07-02/2025-07-14/
ATTACH;FMTTYPE=image/jpeg:https://anandapune.org/wp-content/uploads/2018/05/yoga-cobra.jpg
END:VEVENT
END:VCALENDAR