BEGIN:VCALENDAR
VERSION:2.0
PRODID:-//Ananda Pune - ECPv6.6.0.2//NONSGML v1.0//EN
CALSCALE:GREGORIAN
METHOD:PUBLISH
X-WR-CALNAME:Ananda Pune
X-ORIGINAL-URL:https://anandapune.org
X-WR-CALDESC:Events for Ananda Pune
REFRESH-INTERVAL;VALUE=DURATION:PT1H
X-Robots-Tag:noindex
X-PUBLISHED-TTL:PT1H
BEGIN:VTIMEZONE
TZID:Asia/Kolkata
BEGIN:STANDARD
TZOFFSETFROM:+0530
TZOFFSETTO:+0530
TZNAME:IST
DTSTART:20270101T000000
END:STANDARD
END:VTIMEZONE
BEGIN:VEVENT
DTSTART;TZID=Asia/Kolkata:20270413T064500
DTEND;TZID=Asia/Kolkata:20270413T081500
DTSTAMP:20260423T031626
CREATED:20180505T174917Z
LAST-MODIFIED:20180505T174917Z
UID:42195-1807598700-1807604100@anandapune.org
SUMMARY:Morning Meditation
DESCRIPTION:Feel the group support in your daily meditations by joining our morning sadhana! We will start our meditation with chanting and a prayer and end with sending healing prayers.
URL:https://anandapune.org/event/morning-meditation-2-2018-10-05/2027-04-13/
ATTACH;FMTTYPE=image/jpeg:https://anandapune.org/wp-content/uploads/2018/01/prayer-square.jpg
END:VEVENT
BEGIN:VEVENT
DTSTART;TZID=Asia/Kolkata:20270413T064500
DTEND;TZID=Asia/Kolkata:20270413T081500
DTSTAMP:20260423T031626
CREATED:20190115T100405Z
LAST-MODIFIED:20190115T100405Z
UID:42197-1807598700-1807604100@anandapune.org
SUMMARY:Morning Meditation
DESCRIPTION:
URL:https://anandapune.org/event/morning-meditation-3/2027-04-13/
ATTACH;FMTTYPE=image/jpeg:https://anandapune.org/wp-content/uploads/2018/01/prayer-square.jpg
END:VEVENT
BEGIN:VEVENT
DTSTART;TZID=Asia/Kolkata:20270413T123500
DTEND;TZID=Asia/Kolkata:20270413T130000
DTSTAMP:20260423T031626
CREATED:20181021T083935Z
LAST-MODIFIED:20181021T083935Z
UID:42196-1807619700-1807621200@anandapune.org
SUMMARY:Noon Meditation
DESCRIPTION:An online group meditation. Meditate with us before your lunch break at 12:35 to 1 PM\, to recharge and be reïnspired for the rest of the day ahead. \nClick here to join the meditation.
URL:https://anandapune.org/event/noon-meditation/2027-04-13/
ATTACH;FMTTYPE=image/jpeg:https://anandapune.org/wp-content/uploads/2018/10/noon-meditation.jpg
END:VEVENT
BEGIN:VEVENT
DTSTART;TZID=Asia/Kolkata:20270414T063000
DTEND;TZID=Asia/Kolkata:20270414T073000
DTSTAMP:20260423T031626
CREATED:20180515T104746Z
LAST-MODIFIED:20180515T104746Z
UID:42200-1807684200-1807687800@anandapune.org
SUMMARY:Ananda Yoga
DESCRIPTION:Ananda Yoga® brings yoga back to its original spiritual essence. Above all\, it seeks to raise your level of consciousness by reinforcing the natural effects the yoga postures. With this\, it is also designed to harmonize your body\, mind\, and soul. \nJoin us! \nKnow more about Ananda Yoga.
URL:https://anandapune.org/event/ananda-yoga-2018-07-02/2027-04-14/
ATTACH;FMTTYPE=image/jpeg:https://anandapune.org/wp-content/uploads/2018/05/yoga-cobra.jpg
END:VEVENT
BEGIN:VEVENT
DTSTART;TZID=Asia/Kolkata:20270414T064500
DTEND;TZID=Asia/Kolkata:20270414T081500
DTSTAMP:20260423T031626
CREATED:20171207T114110Z
LAST-MODIFIED:20171207T114110Z
UID:42198-1807685100-1807690500@anandapune.org
SUMMARY:Morning Meditation
DESCRIPTION:
URL:https://anandapune.org/event/morning-meditation/2027-04-14/
END:VEVENT
BEGIN:VEVENT
DTSTART;TZID=Asia/Kolkata:20270414T064500
DTEND;TZID=Asia/Kolkata:20270414T081500
DTSTAMP:20260423T031626
CREATED:20180505T174917Z
LAST-MODIFIED:20180505T174917Z
UID:42202-1807685100-1807690500@anandapune.org
SUMMARY:Morning Meditation
DESCRIPTION:Feel the group support in your daily meditations by joining our morning sadhana! We will start our meditation with chanting and a prayer and end with sending healing prayers.
URL:https://anandapune.org/event/morning-meditation-2-2018-10-05/2027-04-14/
ATTACH;FMTTYPE=image/jpeg:https://anandapune.org/wp-content/uploads/2018/01/prayer-square.jpg
END:VEVENT
BEGIN:VEVENT
DTSTART;TZID=Asia/Kolkata:20270414T064500
DTEND;TZID=Asia/Kolkata:20270414T081500
DTSTAMP:20260423T031626
CREATED:20190115T100405Z
LAST-MODIFIED:20190115T100405Z
UID:42204-1807685100-1807690500@anandapune.org
SUMMARY:Morning Meditation
DESCRIPTION:
URL:https://anandapune.org/event/morning-meditation-3/2027-04-14/
ATTACH;FMTTYPE=image/jpeg:https://anandapune.org/wp-content/uploads/2018/01/prayer-square.jpg
END:VEVENT
BEGIN:VEVENT
DTSTART;TZID=Asia/Kolkata:20270414T123500
DTEND;TZID=Asia/Kolkata:20270414T130000
DTSTAMP:20260423T031626
CREATED:20181021T083935Z
LAST-MODIFIED:20181021T083935Z
UID:42203-1807706100-1807707600@anandapune.org
SUMMARY:Noon Meditation
DESCRIPTION:An online group meditation. Meditate with us before your lunch break at 12:35 to 1 PM\, to recharge and be reïnspired for the rest of the day ahead. \nClick here to join the meditation.
URL:https://anandapune.org/event/noon-meditation/2027-04-14/
ATTACH;FMTTYPE=image/jpeg:https://anandapune.org/wp-content/uploads/2018/10/noon-meditation.jpg
END:VEVENT
BEGIN:VEVENT
DTSTART;TZID=Asia/Kolkata:20270414T180000
DTEND;TZID=Asia/Kolkata:20270414T190000
DTSTAMP:20260423T031626
CREATED:20171207T114249Z
LAST-MODIFIED:20171207T114249Z
UID:42199-1807725600-1807729200@anandapune.org
SUMMARY:Choir with Baraquiel
DESCRIPTION:Together we will learn to sing the beautiful\, uplifting choir songs that Swami Kriyananda has written and composed.\nBaraquiel guides us from warming up to learning to sing the different parts and prepare a performance.
URL:https://anandapune.org/event/choir-with-baraquiel/2027-04-14/
ATTACH;FMTTYPE=image/jpeg:https://anandapune.org/wp-content/uploads/2017/12/choir-featim.jpg
END:VEVENT
BEGIN:VEVENT
DTSTART;TZID=Asia/Kolkata:20270414T190000
DTEND;TZID=Asia/Kolkata:20270414T200000
DTSTAMP:20260423T031626
CREATED:20180515T104746Z
LAST-MODIFIED:20180515T104746Z
UID:42201-1807729200-1807732800@anandapune.org
SUMMARY:Ananda Yoga
DESCRIPTION:Ananda Yoga® brings yoga back to its original spiritual essence. Above all\, it seeks to raise your level of consciousness by reinforcing the natural effects the yoga postures. With this\, it is also designed to harmonize your body\, mind\, and soul. \nJoin us! \nKnow more about Ananda Yoga.
URL:https://anandapune.org/event/ananda-yoga-2018-07-02/2027-04-14/
ATTACH;FMTTYPE=image/jpeg:https://anandapune.org/wp-content/uploads/2018/05/yoga-cobra.jpg
END:VEVENT
BEGIN:VEVENT
DTSTART;TZID=Asia/Kolkata:20270415T064500
DTEND;TZID=Asia/Kolkata:20270415T081500
DTSTAMP:20260423T031626
CREATED:20171207T114110Z
LAST-MODIFIED:20171207T114110Z
UID:42208-1807771500-1807776900@anandapune.org
SUMMARY:Morning Meditation
DESCRIPTION:
URL:https://anandapune.org/event/morning-meditation/2027-04-15/
END:VEVENT
BEGIN:VEVENT
DTSTART;TZID=Asia/Kolkata:20270415T064500
DTEND;TZID=Asia/Kolkata:20270415T081500
DTSTAMP:20260423T031626
CREATED:20180505T174917Z
LAST-MODIFIED:20180505T174917Z
UID:42209-1807771500-1807776900@anandapune.org
SUMMARY:Morning Meditation
DESCRIPTION:Feel the group support in your daily meditations by joining our morning sadhana! We will start our meditation with chanting and a prayer and end with sending healing prayers.
URL:https://anandapune.org/event/morning-meditation-2-2018-10-05/2027-04-15/
ATTACH;FMTTYPE=image/jpeg:https://anandapune.org/wp-content/uploads/2018/01/prayer-square.jpg
END:VEVENT
BEGIN:VEVENT
DTSTART;TZID=Asia/Kolkata:20270415T064500
DTEND;TZID=Asia/Kolkata:20270415T081500
DTSTAMP:20260423T031626
CREATED:20190115T100405Z
LAST-MODIFIED:20190115T100405Z
UID:42211-1807771500-1807776900@anandapune.org
SUMMARY:Morning Meditation
DESCRIPTION:
URL:https://anandapune.org/event/morning-meditation-3/2027-04-15/
ATTACH;FMTTYPE=image/jpeg:https://anandapune.org/wp-content/uploads/2018/01/prayer-square.jpg
END:VEVENT
BEGIN:VEVENT
DTSTART;TZID=Asia/Kolkata:20270415T123500
DTEND;TZID=Asia/Kolkata:20270415T130000
DTSTAMP:20260423T031626
CREATED:20181021T083935Z
LAST-MODIFIED:20181021T083935Z
UID:42210-1807792500-1807794000@anandapune.org
SUMMARY:Noon Meditation
DESCRIPTION:An online group meditation. Meditate with us before your lunch break at 12:35 to 1 PM\, to recharge and be reïnspired for the rest of the day ahead. \nClick here to join the meditation.
URL:https://anandapune.org/event/noon-meditation/2027-04-15/
ATTACH;FMTTYPE=image/jpeg:https://anandapune.org/wp-content/uploads/2018/10/noon-meditation.jpg
END:VEVENT
BEGIN:VEVENT
DTSTART;TZID=Asia/Kolkata:20270415T183000
DTEND;TZID=Asia/Kolkata:20270415T200000
DTSTAMP:20260423T031626
CREATED:20171207T113939Z
LAST-MODIFIED:20171207T113939Z
UID:42207-1807813800-1807819200@anandapune.org
SUMMARY:Bhagavad Gita Satsang
DESCRIPTION:A discourse based on a verse from The Bhagavad Gita. \nThe flow of the evening: \n\nEnergization Exercises\nChanting\nMeditation\nDiscourse\nAarti
URL:https://anandapune.org/event/bhagavad-gita-satsang/2027-04-15/
CATEGORIES:Live Online Broadcast
ATTACH;FMTTYPE=image/jpeg:https://anandapune.org/wp-content/uploads/2018/01/hqdefault.jpg
END:VEVENT
BEGIN:VEVENT
DTSTART;TZID=Asia/Kolkata:20270415T203000
DTEND;TZID=Asia/Kolkata:20270415T223000
DTSTAMP:20260423T031626
CREATED:20180311T095142Z
LAST-MODIFIED:20180311T095142Z
UID:42223-1807821000-1807828200@anandapune.org
SUMMARY:Long Meditation
DESCRIPTION:
URL:https://anandapune.org/event/long-meditation/2027-04-15/
CATEGORIES:Special Events
ATTACH;FMTTYPE=image/jpeg:https://anandapune.org/wp-content/uploads/2018/03/amruta-meditating.jpg
END:VEVENT
BEGIN:VEVENT
DTSTART;TZID=Asia/Kolkata:20270416T063000
DTEND;TZID=Asia/Kolkata:20270416T073000
DTSTAMP:20260423T031626
CREATED:20180515T104746Z
LAST-MODIFIED:20180515T104746Z
UID:42214-1807857000-1807860600@anandapune.org
SUMMARY:Ananda Yoga
DESCRIPTION:
URL:https://anandapune.org/event/ananda-yoga/2027-04-16/
ATTACH;FMTTYPE=image/jpeg:https://anandapune.org/wp-content/uploads/2018/05/yoga-cobra.jpg
END:VEVENT
BEGIN:VEVENT
DTSTART;TZID=Asia/Kolkata:20270416T063000
DTEND;TZID=Asia/Kolkata:20270416T073000
DTSTAMP:20260423T031626
CREATED:20180515T104746Z
LAST-MODIFIED:20180515T104746Z
UID:42215-1807857000-1807860600@anandapune.org
SUMMARY:Ananda Yoga
DESCRIPTION:Ananda Yoga® brings yoga back to its original spiritual essence. Above all\, it seeks to raise your level of consciousness by reinforcing the natural effects the yoga postures. With this\, it is also designed to harmonize your body\, mind\, and soul. \nJoin us! \nKnow more about Ananda Yoga.
URL:https://anandapune.org/event/ananda-yoga-2018-07-02/2027-04-16/
ATTACH;FMTTYPE=image/jpeg:https://anandapune.org/wp-content/uploads/2018/05/yoga-cobra.jpg
END:VEVENT
BEGIN:VEVENT
DTSTART;TZID=Asia/Kolkata:20270416T064500
DTEND;TZID=Asia/Kolkata:20270416T081500
DTSTAMP:20260423T031626
CREATED:20171207T114110Z
LAST-MODIFIED:20171207T114110Z
UID:42212-1807857900-1807863300@anandapune.org
SUMMARY:Morning Meditation
DESCRIPTION:
URL:https://anandapune.org/event/morning-meditation/2027-04-16/
END:VEVENT
BEGIN:VEVENT
DTSTART;TZID=Asia/Kolkata:20270416T064500
DTEND;TZID=Asia/Kolkata:20270416T081500
DTSTAMP:20260423T031626
CREATED:20180505T174917Z
LAST-MODIFIED:20180505T174917Z
UID:42217-1807857900-1807863300@anandapune.org
SUMMARY:Morning Meditation
DESCRIPTION:Feel the group support in your daily meditations by joining our morning sadhana! We will start our meditation with chanting and a prayer and end with sending healing prayers.
URL:https://anandapune.org/event/morning-meditation-2-2018-10-05/2027-04-16/
ATTACH;FMTTYPE=image/jpeg:https://anandapune.org/wp-content/uploads/2018/01/prayer-square.jpg
END:VEVENT
BEGIN:VEVENT
DTSTART;TZID=Asia/Kolkata:20270416T064500
DTEND;TZID=Asia/Kolkata:20270416T081500
DTSTAMP:20260423T031626
CREATED:20190115T100405Z
LAST-MODIFIED:20190115T100405Z
UID:42219-1807857900-1807863300@anandapune.org
SUMMARY:Morning Meditation
DESCRIPTION:
URL:https://anandapune.org/event/morning-meditation-3/2027-04-16/
ATTACH;FMTTYPE=image/jpeg:https://anandapune.org/wp-content/uploads/2018/01/prayer-square.jpg
END:VEVENT
BEGIN:VEVENT
DTSTART;TZID=Asia/Kolkata:20270416T123500
DTEND;TZID=Asia/Kolkata:20270416T130000
DTSTAMP:20260423T031626
CREATED:20181021T083935Z
LAST-MODIFIED:20181021T083935Z
UID:42218-1807878900-1807880400@anandapune.org
SUMMARY:Noon Meditation
DESCRIPTION:An online group meditation. Meditate with us before your lunch break at 12:35 to 1 PM\, to recharge and be reïnspired for the rest of the day ahead. \nClick here to join the meditation.
URL:https://anandapune.org/event/noon-meditation/2027-04-16/
ATTACH;FMTTYPE=image/jpeg:https://anandapune.org/wp-content/uploads/2018/10/noon-meditation.jpg
END:VEVENT
BEGIN:VEVENT
DTSTART;TZID=Asia/Kolkata:20270416T180000
DTEND;TZID=Asia/Kolkata:20270416T193000
DTSTAMP:20260423T031626
CREATED:20171207T114409Z
LAST-MODIFIED:20171207T114409Z
UID:42213-1807898400-1807903800@anandapune.org
SUMMARY:Book Study - Koregaon Park
DESCRIPTION:Together we read a book from our spiritual path. The leader shares some thoughts of inspiration and there is space to share our insights with the group. Right now we are studying “Paramhansa Yogananda\, A Biography” written by Swami Kriyananda.
URL:https://anandapune.org/event/book-study-koregaon-park/2027-04-16/
ATTACH;FMTTYPE=image/jpeg:https://anandapune.org/wp-content/uploads/2017/12/biography-square.jpg
END:VEVENT
BEGIN:VEVENT
DTSTART;TZID=Asia/Kolkata:20270416T190000
DTEND;TZID=Asia/Kolkata:20270416T200000
DTSTAMP:20260423T031626
CREATED:20180515T104746Z
LAST-MODIFIED:20180515T104746Z
UID:42216-1807902000-1807905600@anandapune.org
SUMMARY:Ananda Yoga
DESCRIPTION:Ananda Yoga® brings yoga back to its original spiritual essence. Above all\, it seeks to raise your level of consciousness by reinforcing the natural effects the yoga postures. With this\, it is also designed to harmonize your body\, mind\, and soul. \nJoin us! \nKnow more about Ananda Yoga.
URL:https://anandapune.org/event/ananda-yoga-2018-07-02/2027-04-16/
ATTACH;FMTTYPE=image/jpeg:https://anandapune.org/wp-content/uploads/2018/05/yoga-cobra.jpg
END:VEVENT
BEGIN:VEVENT
DTSTART;TZID=Asia/Kolkata:20270417T064500
DTEND;TZID=Asia/Kolkata:20270417T081500
DTSTAMP:20260423T031626
CREATED:20171207T114110Z
LAST-MODIFIED:20171207T114110Z
UID:42221-1807944300-1807949700@anandapune.org
SUMMARY:Morning Meditation
DESCRIPTION:
URL:https://anandapune.org/event/morning-meditation/2027-04-17/
END:VEVENT
BEGIN:VEVENT
DTSTART;TZID=Asia/Kolkata:20270417T073000
DTEND;TZID=Asia/Kolkata:20270417T103000
DTSTAMP:20260423T031626
CREATED:20171207T113519Z
LAST-MODIFIED:20171207T113519Z
UID:42226-1807947000-1807957800@anandapune.org
SUMMARY:Kriyaban Meditation
DESCRIPTION:On Saturdays from 7.30 AM to 10.30 AM. \nGuided meditation for Kriyabans\, starting with the Energization Exercises\, Mahamudra and finally a long practice of Kriya Meditation.
URL:https://anandapune.org/event/kriyaban-meditation-2018-03-18-2018-12-23/2027-04-17/
ATTACH;FMTTYPE=image/jpeg:https://anandapune.org/wp-content/uploads/2017/12/meditation-mala.jpg
END:VEVENT
BEGIN:VEVENT
DTSTART;TZID=Asia/Kolkata:20270417T080000
DTEND;TZID=Asia/Kolkata:20270417T110000
DTSTAMP:20260423T031626
CREATED:20180311T095142Z
LAST-MODIFIED:20180311T095142Z
UID:42222-1807948800-1807959600@anandapune.org
SUMMARY:Long Meditation
DESCRIPTION:
URL:https://anandapune.org/event/long-meditation/2027-04-17/
CATEGORIES:Special Events
ATTACH;FMTTYPE=image/jpeg:https://anandapune.org/wp-content/uploads/2018/03/amruta-meditating.jpg
END:VEVENT
BEGIN:VEVENT
DTSTART;TZID=Asia/Kolkata:20270417T173000
DTEND;TZID=Asia/Kolkata:20270417T190000
DTSTAMP:20260423T031626
CREATED:20180906T133908Z
LAST-MODIFIED:20180906T133908Z
UID:42225-1807983000-1807988400@anandapune.org
SUMMARY:Chanting with Harmonium Lessons
DESCRIPTION:Click to Enlarge
URL:https://anandapune.org/event/chanting-with-harmonium-lessons/2027-04-17/
CATEGORIES:Special Events
ATTACH;FMTTYPE=image/jpeg:https://anandapune.org/wp-content/uploads/2018/09/harmonium-swami-kriyananda.jpg
END:VEVENT
BEGIN:VEVENT
DTSTART;TZID=Asia/Kolkata:20270417T200000
DTEND;TZID=Asia/Kolkata:20270417T210000
DTSTAMP:20260423T031626
CREATED:20180314T132401Z
LAST-MODIFIED:20180314T132401Z
UID:42224-1807992000-1807995600@anandapune.org
SUMMARY:Kirtan
DESCRIPTION:
URL:https://anandapune.org/event/kirtan/2027-04-17/
ATTACH;FMTTYPE=image/jpeg:https://anandapune.org/wp-content/uploads/2018/03/kirtan-heze.jpg
END:VEVENT
BEGIN:VEVENT
DTSTART;TZID=Asia/Kolkata:20270418T064500
DTEND;TZID=Asia/Kolkata:20270418T081500
DTSTAMP:20260423T031626
CREATED:20171207T114110Z
LAST-MODIFIED:20171207T114110Z
UID:42230-1808030700-1808036100@anandapune.org
SUMMARY:Morning Meditation
DESCRIPTION:
URL:https://anandapune.org/event/morning-meditation/2027-04-18/
END:VEVENT
END:VCALENDAR