BEGIN:VCALENDAR
VERSION:2.0
PRODID:-//Ananda Pune - ECPv6.6.0.2//NONSGML v1.0//EN
CALSCALE:GREGORIAN
METHOD:PUBLISH
X-WR-CALNAME:Ananda Pune
X-ORIGINAL-URL:https://anandapune.org
X-WR-CALDESC:Events for Ananda Pune
REFRESH-INTERVAL;VALUE=DURATION:PT1H
X-Robots-Tag:noindex
X-PUBLISHED-TTL:PT1H
BEGIN:VTIMEZONE
TZID:Asia/Kolkata
BEGIN:STANDARD
TZOFFSETFROM:+0530
TZOFFSETTO:+0530
TZNAME:IST
DTSTART:20270101T000000
END:STANDARD
END:VTIMEZONE
BEGIN:VEVENT
DTSTART;TZID=Asia/Kolkata:20270322T063000
DTEND;TZID=Asia/Kolkata:20270322T073000
DTSTAMP:20260422T015845
CREATED:20180515T104746Z
LAST-MODIFIED:20180515T104746Z
UID:42035-1805697000-1805700600@anandapune.org
SUMMARY:Ananda Yoga
DESCRIPTION:
URL:https://anandapune.org/event/ananda-yoga/2027-03-22/
ATTACH;FMTTYPE=image/jpeg:https://anandapune.org/wp-content/uploads/2018/05/yoga-cobra.jpg
END:VEVENT
BEGIN:VEVENT
DTSTART;TZID=Asia/Kolkata:20270322T063000
DTEND;TZID=Asia/Kolkata:20270322T073000
DTSTAMP:20260422T015845
CREATED:20180515T104746Z
LAST-MODIFIED:20180515T104746Z
UID:42036-1805697000-1805700600@anandapune.org
SUMMARY:Ananda Yoga
DESCRIPTION:Ananda Yoga® brings yoga back to its original spiritual essence. Above all\, it seeks to raise your level of consciousness by reinforcing the natural effects the yoga postures. With this\, it is also designed to harmonize your body\, mind\, and soul. \nJoin us! \nKnow more about Ananda Yoga.
URL:https://anandapune.org/event/ananda-yoga-2018-07-02/2027-03-22/
ATTACH;FMTTYPE=image/jpeg:https://anandapune.org/wp-content/uploads/2018/05/yoga-cobra.jpg
END:VEVENT
BEGIN:VEVENT
DTSTART;TZID=Asia/Kolkata:20270322T064500
DTEND;TZID=Asia/Kolkata:20270322T081500
DTSTAMP:20260422T015845
CREATED:20171207T114110Z
LAST-MODIFIED:20171207T114110Z
UID:42034-1805697900-1805703300@anandapune.org
SUMMARY:Morning Meditation
DESCRIPTION:
URL:https://anandapune.org/event/morning-meditation/2027-03-22/
END:VEVENT
BEGIN:VEVENT
DTSTART;TZID=Asia/Kolkata:20270322T123500
DTEND;TZID=Asia/Kolkata:20270322T130000
DTSTAMP:20260422T015845
CREATED:20181021T083935Z
LAST-MODIFIED:20181021T083935Z
UID:42038-1805718900-1805720400@anandapune.org
SUMMARY:Noon Meditation
DESCRIPTION:An online group meditation. Meditate with us before your lunch break at 12:35 to 1 PM\, to recharge and be reïnspired for the rest of the day ahead. \nClick here to join the meditation.
URL:https://anandapune.org/event/noon-meditation/2027-03-22/
ATTACH;FMTTYPE=image/jpeg:https://anandapune.org/wp-content/uploads/2018/10/noon-meditation.jpg
END:VEVENT
BEGIN:VEVENT
DTSTART;TZID=Asia/Kolkata:20270322T190000
DTEND;TZID=Asia/Kolkata:20270322T200000
DTSTAMP:20260422T015845
CREATED:20180515T104746Z
LAST-MODIFIED:20180515T104746Z
UID:42037-1805742000-1805745600@anandapune.org
SUMMARY:Ananda Yoga
DESCRIPTION:Ananda Yoga® brings yoga back to its original spiritual essence. Above all\, it seeks to raise your level of consciousness by reinforcing the natural effects the yoga postures. With this\, it is also designed to harmonize your body\, mind\, and soul. \nJoin us! \nKnow more about Ananda Yoga.
URL:https://anandapune.org/event/ananda-yoga-2018-07-02/2027-03-22/
ATTACH;FMTTYPE=image/jpeg:https://anandapune.org/wp-content/uploads/2018/05/yoga-cobra.jpg
END:VEVENT
BEGIN:VEVENT
DTSTART;TZID=Asia/Kolkata:20270323T064500
DTEND;TZID=Asia/Kolkata:20270323T081500
DTSTAMP:20260422T015845
CREATED:20171207T114110Z
LAST-MODIFIED:20171207T114110Z
UID:42039-1805784300-1805789700@anandapune.org
SUMMARY:Morning Meditation
DESCRIPTION:
URL:https://anandapune.org/event/morning-meditation/2027-03-23/
END:VEVENT
BEGIN:VEVENT
DTSTART;TZID=Asia/Kolkata:20270323T064500
DTEND;TZID=Asia/Kolkata:20270323T081500
DTSTAMP:20260422T015845
CREATED:20180505T174917Z
LAST-MODIFIED:20180505T174917Z
UID:42040-1805784300-1805789700@anandapune.org
SUMMARY:Morning Meditation
DESCRIPTION:Feel the group support in your daily meditations by joining our morning sadhana! We will start our meditation with chanting and a prayer and end with sending healing prayers.
URL:https://anandapune.org/event/morning-meditation-2-2018-10-05/2027-03-23/
ATTACH;FMTTYPE=image/jpeg:https://anandapune.org/wp-content/uploads/2018/01/prayer-square.jpg
END:VEVENT
BEGIN:VEVENT
DTSTART;TZID=Asia/Kolkata:20270323T064500
DTEND;TZID=Asia/Kolkata:20270323T081500
DTSTAMP:20260422T015845
CREATED:20190115T100405Z
LAST-MODIFIED:20190115T100405Z
UID:42042-1805784300-1805789700@anandapune.org
SUMMARY:Morning Meditation
DESCRIPTION:
URL:https://anandapune.org/event/morning-meditation-3/2027-03-23/
ATTACH;FMTTYPE=image/jpeg:https://anandapune.org/wp-content/uploads/2018/01/prayer-square.jpg
END:VEVENT
BEGIN:VEVENT
DTSTART;TZID=Asia/Kolkata:20270323T123500
DTEND;TZID=Asia/Kolkata:20270323T130000
DTSTAMP:20260422T015845
CREATED:20181021T083935Z
LAST-MODIFIED:20181021T083935Z
UID:42041-1805805300-1805806800@anandapune.org
SUMMARY:Noon Meditation
DESCRIPTION:An online group meditation. Meditate with us before your lunch break at 12:35 to 1 PM\, to recharge and be reïnspired for the rest of the day ahead. \nClick here to join the meditation.
URL:https://anandapune.org/event/noon-meditation/2027-03-23/
ATTACH;FMTTYPE=image/jpeg:https://anandapune.org/wp-content/uploads/2018/10/noon-meditation.jpg
END:VEVENT
BEGIN:VEVENT
DTSTART;TZID=Asia/Kolkata:20270324T063000
DTEND;TZID=Asia/Kolkata:20270324T073000
DTSTAMP:20260422T015845
CREATED:20180515T104746Z
LAST-MODIFIED:20180515T104746Z
UID:42045-1805869800-1805873400@anandapune.org
SUMMARY:Ananda Yoga
DESCRIPTION:Ananda Yoga® brings yoga back to its original spiritual essence. Above all\, it seeks to raise your level of consciousness by reinforcing the natural effects the yoga postures. With this\, it is also designed to harmonize your body\, mind\, and soul. \nJoin us! \nKnow more about Ananda Yoga.
URL:https://anandapune.org/event/ananda-yoga-2018-07-02/2027-03-24/
ATTACH;FMTTYPE=image/jpeg:https://anandapune.org/wp-content/uploads/2018/05/yoga-cobra.jpg
END:VEVENT
BEGIN:VEVENT
DTSTART;TZID=Asia/Kolkata:20270324T064500
DTEND;TZID=Asia/Kolkata:20270324T081500
DTSTAMP:20260422T015845
CREATED:20171207T114110Z
LAST-MODIFIED:20171207T114110Z
UID:42043-1805870700-1805876100@anandapune.org
SUMMARY:Morning Meditation
DESCRIPTION:
URL:https://anandapune.org/event/morning-meditation/2027-03-24/
END:VEVENT
BEGIN:VEVENT
DTSTART;TZID=Asia/Kolkata:20270324T064500
DTEND;TZID=Asia/Kolkata:20270324T081500
DTSTAMP:20260422T015845
CREATED:20180505T174917Z
LAST-MODIFIED:20180505T174917Z
UID:42047-1805870700-1805876100@anandapune.org
SUMMARY:Morning Meditation
DESCRIPTION:Feel the group support in your daily meditations by joining our morning sadhana! We will start our meditation with chanting and a prayer and end with sending healing prayers.
URL:https://anandapune.org/event/morning-meditation-2-2018-10-05/2027-03-24/
ATTACH;FMTTYPE=image/jpeg:https://anandapune.org/wp-content/uploads/2018/01/prayer-square.jpg
END:VEVENT
BEGIN:VEVENT
DTSTART;TZID=Asia/Kolkata:20270324T064500
DTEND;TZID=Asia/Kolkata:20270324T081500
DTSTAMP:20260422T015845
CREATED:20190115T100405Z
LAST-MODIFIED:20190115T100405Z
UID:42049-1805870700-1805876100@anandapune.org
SUMMARY:Morning Meditation
DESCRIPTION:
URL:https://anandapune.org/event/morning-meditation-3/2027-03-24/
ATTACH;FMTTYPE=image/jpeg:https://anandapune.org/wp-content/uploads/2018/01/prayer-square.jpg
END:VEVENT
BEGIN:VEVENT
DTSTART;TZID=Asia/Kolkata:20270324T123500
DTEND;TZID=Asia/Kolkata:20270324T130000
DTSTAMP:20260422T015845
CREATED:20181021T083935Z
LAST-MODIFIED:20181021T083935Z
UID:42048-1805891700-1805893200@anandapune.org
SUMMARY:Noon Meditation
DESCRIPTION:An online group meditation. Meditate with us before your lunch break at 12:35 to 1 PM\, to recharge and be reïnspired for the rest of the day ahead. \nClick here to join the meditation.
URL:https://anandapune.org/event/noon-meditation/2027-03-24/
ATTACH;FMTTYPE=image/jpeg:https://anandapune.org/wp-content/uploads/2018/10/noon-meditation.jpg
END:VEVENT
BEGIN:VEVENT
DTSTART;TZID=Asia/Kolkata:20270324T180000
DTEND;TZID=Asia/Kolkata:20270324T190000
DTSTAMP:20260422T015845
CREATED:20171207T114249Z
LAST-MODIFIED:20171207T114249Z
UID:42044-1805911200-1805914800@anandapune.org
SUMMARY:Choir with Baraquiel
DESCRIPTION:Together we will learn to sing the beautiful\, uplifting choir songs that Swami Kriyananda has written and composed.\nBaraquiel guides us from warming up to learning to sing the different parts and prepare a performance.
URL:https://anandapune.org/event/choir-with-baraquiel/2027-03-24/
ATTACH;FMTTYPE=image/jpeg:https://anandapune.org/wp-content/uploads/2017/12/choir-featim.jpg
END:VEVENT
BEGIN:VEVENT
DTSTART;TZID=Asia/Kolkata:20270324T190000
DTEND;TZID=Asia/Kolkata:20270324T200000
DTSTAMP:20260422T015845
CREATED:20180515T104746Z
LAST-MODIFIED:20180515T104746Z
UID:42046-1805914800-1805918400@anandapune.org
SUMMARY:Ananda Yoga
DESCRIPTION:Ananda Yoga® brings yoga back to its original spiritual essence. Above all\, it seeks to raise your level of consciousness by reinforcing the natural effects the yoga postures. With this\, it is also designed to harmonize your body\, mind\, and soul. \nJoin us! \nKnow more about Ananda Yoga.
URL:https://anandapune.org/event/ananda-yoga-2018-07-02/2027-03-24/
ATTACH;FMTTYPE=image/jpeg:https://anandapune.org/wp-content/uploads/2018/05/yoga-cobra.jpg
END:VEVENT
BEGIN:VEVENT
DTSTART;TZID=Asia/Kolkata:20270325T064500
DTEND;TZID=Asia/Kolkata:20270325T081500
DTSTAMP:20260422T015845
CREATED:20171207T114110Z
LAST-MODIFIED:20171207T114110Z
UID:42055-1805957100-1805962500@anandapune.org
SUMMARY:Morning Meditation
DESCRIPTION:
URL:https://anandapune.org/event/morning-meditation/2027-03-25/
END:VEVENT
BEGIN:VEVENT
DTSTART;TZID=Asia/Kolkata:20270325T064500
DTEND;TZID=Asia/Kolkata:20270325T081500
DTSTAMP:20260422T015845
CREATED:20180505T174917Z
LAST-MODIFIED:20180505T174917Z
UID:42056-1805957100-1805962500@anandapune.org
SUMMARY:Morning Meditation
DESCRIPTION:Feel the group support in your daily meditations by joining our morning sadhana! We will start our meditation with chanting and a prayer and end with sending healing prayers.
URL:https://anandapune.org/event/morning-meditation-2-2018-10-05/2027-03-25/
ATTACH;FMTTYPE=image/jpeg:https://anandapune.org/wp-content/uploads/2018/01/prayer-square.jpg
END:VEVENT
BEGIN:VEVENT
DTSTART;TZID=Asia/Kolkata:20270325T064500
DTEND;TZID=Asia/Kolkata:20270325T081500
DTSTAMP:20260422T015845
CREATED:20190115T100405Z
LAST-MODIFIED:20190115T100405Z
UID:42058-1805957100-1805962500@anandapune.org
SUMMARY:Morning Meditation
DESCRIPTION:
URL:https://anandapune.org/event/morning-meditation-3/2027-03-25/
ATTACH;FMTTYPE=image/jpeg:https://anandapune.org/wp-content/uploads/2018/01/prayer-square.jpg
END:VEVENT
BEGIN:VEVENT
DTSTART;TZID=Asia/Kolkata:20270325T123500
DTEND;TZID=Asia/Kolkata:20270325T130000
DTSTAMP:20260422T015845
CREATED:20181021T083935Z
LAST-MODIFIED:20181021T083935Z
UID:42057-1805978100-1805979600@anandapune.org
SUMMARY:Noon Meditation
DESCRIPTION:An online group meditation. Meditate with us before your lunch break at 12:35 to 1 PM\, to recharge and be reïnspired for the rest of the day ahead. \nClick here to join the meditation.
URL:https://anandapune.org/event/noon-meditation/2027-03-25/
ATTACH;FMTTYPE=image/jpeg:https://anandapune.org/wp-content/uploads/2018/10/noon-meditation.jpg
END:VEVENT
BEGIN:VEVENT
DTSTART;TZID=Asia/Kolkata:20270325T183000
DTEND;TZID=Asia/Kolkata:20270325T200000
DTSTAMP:20260422T015845
CREATED:20171207T113939Z
LAST-MODIFIED:20171207T113939Z
UID:42054-1805999400-1806004800@anandapune.org
SUMMARY:Bhagavad Gita Satsang
DESCRIPTION:A discourse based on a verse from The Bhagavad Gita. \nThe flow of the evening: \n\nEnergization Exercises\nChanting\nMeditation\nDiscourse\nAarti
URL:https://anandapune.org/event/bhagavad-gita-satsang/2027-03-25/
CATEGORIES:Live Online Broadcast
ATTACH;FMTTYPE=image/jpeg:https://anandapune.org/wp-content/uploads/2018/01/hqdefault.jpg
END:VEVENT
BEGIN:VEVENT
DTSTART;TZID=Asia/Kolkata:20270325T203000
DTEND;TZID=Asia/Kolkata:20270325T223000
DTSTAMP:20260422T015845
CREATED:20180311T095142Z
LAST-MODIFIED:20180311T095142Z
UID:42089-1806006600-1806013800@anandapune.org
SUMMARY:Long Meditation
DESCRIPTION:
URL:https://anandapune.org/event/long-meditation/2027-03-25/
CATEGORIES:Special Events
ATTACH;FMTTYPE=image/jpeg:https://anandapune.org/wp-content/uploads/2018/03/amruta-meditating.jpg
END:VEVENT
BEGIN:VEVENT
DTSTART;TZID=Asia/Kolkata:20270326T063000
DTEND;TZID=Asia/Kolkata:20270326T073000
DTSTAMP:20260422T015845
CREATED:20180515T104746Z
LAST-MODIFIED:20180515T104746Z
UID:42072-1806042600-1806046200@anandapune.org
SUMMARY:Ananda Yoga
DESCRIPTION:
URL:https://anandapune.org/event/ananda-yoga/2027-03-26/
ATTACH;FMTTYPE=image/jpeg:https://anandapune.org/wp-content/uploads/2018/05/yoga-cobra.jpg
END:VEVENT
BEGIN:VEVENT
DTSTART;TZID=Asia/Kolkata:20270326T063000
DTEND;TZID=Asia/Kolkata:20270326T073000
DTSTAMP:20260422T015845
CREATED:20180515T104746Z
LAST-MODIFIED:20180515T104746Z
UID:42073-1806042600-1806046200@anandapune.org
SUMMARY:Ananda Yoga
DESCRIPTION:Ananda Yoga® brings yoga back to its original spiritual essence. Above all\, it seeks to raise your level of consciousness by reinforcing the natural effects the yoga postures. With this\, it is also designed to harmonize your body\, mind\, and soul. \nJoin us! \nKnow more about Ananda Yoga.
URL:https://anandapune.org/event/ananda-yoga-2018-07-02/2027-03-26/
ATTACH;FMTTYPE=image/jpeg:https://anandapune.org/wp-content/uploads/2018/05/yoga-cobra.jpg
END:VEVENT
BEGIN:VEVENT
DTSTART;TZID=Asia/Kolkata:20270326T064500
DTEND;TZID=Asia/Kolkata:20270326T081500
DTSTAMP:20260422T015845
CREATED:20171207T114110Z
LAST-MODIFIED:20171207T114110Z
UID:42070-1806043500-1806048900@anandapune.org
SUMMARY:Morning Meditation
DESCRIPTION:
URL:https://anandapune.org/event/morning-meditation/2027-03-26/
END:VEVENT
BEGIN:VEVENT
DTSTART;TZID=Asia/Kolkata:20270326T064500
DTEND;TZID=Asia/Kolkata:20270326T081500
DTSTAMP:20260422T015845
CREATED:20180505T174917Z
LAST-MODIFIED:20180505T174917Z
UID:42075-1806043500-1806048900@anandapune.org
SUMMARY:Morning Meditation
DESCRIPTION:Feel the group support in your daily meditations by joining our morning sadhana! We will start our meditation with chanting and a prayer and end with sending healing prayers.
URL:https://anandapune.org/event/morning-meditation-2-2018-10-05/2027-03-26/
ATTACH;FMTTYPE=image/jpeg:https://anandapune.org/wp-content/uploads/2018/01/prayer-square.jpg
END:VEVENT
BEGIN:VEVENT
DTSTART;TZID=Asia/Kolkata:20270326T064500
DTEND;TZID=Asia/Kolkata:20270326T081500
DTSTAMP:20260422T015845
CREATED:20190115T100405Z
LAST-MODIFIED:20190115T100405Z
UID:42077-1806043500-1806048900@anandapune.org
SUMMARY:Morning Meditation
DESCRIPTION:
URL:https://anandapune.org/event/morning-meditation-3/2027-03-26/
ATTACH;FMTTYPE=image/jpeg:https://anandapune.org/wp-content/uploads/2018/01/prayer-square.jpg
END:VEVENT
BEGIN:VEVENT
DTSTART;TZID=Asia/Kolkata:20270326T123500
DTEND;TZID=Asia/Kolkata:20270326T130000
DTSTAMP:20260422T015845
CREATED:20181021T083935Z
LAST-MODIFIED:20181021T083935Z
UID:42076-1806064500-1806066000@anandapune.org
SUMMARY:Noon Meditation
DESCRIPTION:An online group meditation. Meditate with us before your lunch break at 12:35 to 1 PM\, to recharge and be reïnspired for the rest of the day ahead. \nClick here to join the meditation.
URL:https://anandapune.org/event/noon-meditation/2027-03-26/
ATTACH;FMTTYPE=image/jpeg:https://anandapune.org/wp-content/uploads/2018/10/noon-meditation.jpg
END:VEVENT
BEGIN:VEVENT
DTSTART;TZID=Asia/Kolkata:20270326T180000
DTEND;TZID=Asia/Kolkata:20270326T193000
DTSTAMP:20260422T015845
CREATED:20171207T114409Z
LAST-MODIFIED:20171207T114409Z
UID:42071-1806084000-1806089400@anandapune.org
SUMMARY:Book Study - Koregaon Park
DESCRIPTION:Together we read a book from our spiritual path. The leader shares some thoughts of inspiration and there is space to share our insights with the group. Right now we are studying “Paramhansa Yogananda\, A Biography” written by Swami Kriyananda.
URL:https://anandapune.org/event/book-study-koregaon-park/2027-03-26/
ATTACH;FMTTYPE=image/jpeg:https://anandapune.org/wp-content/uploads/2017/12/biography-square.jpg
END:VEVENT
BEGIN:VEVENT
DTSTART;TZID=Asia/Kolkata:20270326T190000
DTEND;TZID=Asia/Kolkata:20270326T200000
DTSTAMP:20260422T015845
CREATED:20180515T104746Z
LAST-MODIFIED:20180515T104746Z
UID:42074-1806087600-1806091200@anandapune.org
SUMMARY:Ananda Yoga
DESCRIPTION:Ananda Yoga® brings yoga back to its original spiritual essence. Above all\, it seeks to raise your level of consciousness by reinforcing the natural effects the yoga postures. With this\, it is also designed to harmonize your body\, mind\, and soul. \nJoin us! \nKnow more about Ananda Yoga.
URL:https://anandapune.org/event/ananda-yoga-2018-07-02/2027-03-26/
ATTACH;FMTTYPE=image/jpeg:https://anandapune.org/wp-content/uploads/2018/05/yoga-cobra.jpg
END:VEVENT
END:VCALENDAR